BEGIN:VCALENDAR
VERSION:2.0
PRODID:-//From the Heart Church Ministries of Atlanta - ECPv6.15.20//NONSGML v1.0//EN
CALSCALE:GREGORIAN
METHOD:PUBLISH
X-WR-CALNAME:From the Heart Church Ministries of Atlanta
X-ORIGINAL-URL:https://fromtheheartatlanta.org
X-WR-CALDESC:Events for From the Heart Church Ministries of Atlanta
REFRESH-INTERVAL;VALUE=DURATION:PT1H
X-Robots-Tag:noindex
X-PUBLISHED-TTL:PT1H
BEGIN:VTIMEZONE
TZID:America/New_York
BEGIN:DAYLIGHT
TZOFFSETFROM:-0500
TZOFFSETTO:-0400
TZNAME:EDT
DTSTART:20230312T070000
END:DAYLIGHT
BEGIN:STANDARD
TZOFFSETFROM:-0400
TZOFFSETTO:-0500
TZNAME:EST
DTSTART:20231105T060000
END:STANDARD
BEGIN:DAYLIGHT
TZOFFSETFROM:-0500
TZOFFSETTO:-0400
TZNAME:EDT
DTSTART:20240310T070000
END:DAYLIGHT
BEGIN:STANDARD
TZOFFSETFROM:-0400
TZOFFSETTO:-0500
TZNAME:EST
DTSTART:20241103T060000
END:STANDARD
BEGIN:DAYLIGHT
TZOFFSETFROM:-0500
TZOFFSETTO:-0400
TZNAME:EDT
DTSTART:20250309T070000
END:DAYLIGHT
BEGIN:STANDARD
TZOFFSETFROM:-0400
TZOFFSETTO:-0500
TZNAME:EST
DTSTART:20251102T060000
END:STANDARD
END:VTIMEZONE
BEGIN:VEVENT
DTSTART;TZID=America/New_York:20240726T190000
DTEND;TZID=America/New_York:20240726T210000
DTSTAMP:20260420T185419
CREATED:20240716T142336Z
LAST-MODIFIED:20240716T142336Z
UID:10000652-1722020400-1722027600@fromtheheartatlanta.org
SUMMARY:Family Game Night
DESCRIPTION:COME ONE\, COME ALL to Family Game Night on Friday\, July 26 at 7:00 p.m.  There will be games for all ages.  Bring your favorite dish to share.  Don’t forget to invite your family\, friends and neighbors as we have fun\, food\, fellowship and friendly competition!
URL:https://fromtheheartatlanta.org/event/family-game-night/
LOCATION:Fellowship Hall\, 1583 Westhaven Dr. SW\, Atlanta\, GA\, 30311
CATEGORIES:Fellowship
ATTACH;FMTTYPE=image/png:https://fromtheheartatlanta.org/wp-content/uploads/2024/07/cal_family_game_night.png
GEO:33.7327954;-84.4392279
X-APPLE-STRUCTURED-LOCATION;VALUE=URI;X-ADDRESS=Fellowship Hall 1583 Westhaven Dr. SW Atlanta GA 30311;X-APPLE-RADIUS=500;X-TITLE=1583 Westhaven Dr. SW:geo:-84.4392279,33.7327954
END:VEVENT
END:VCALENDAR