BEGIN:VCALENDAR
VERSION:2.0
PRODID:-//From the Heart Church Ministries of Atlanta - ECPv6.15.20//NONSGML v1.0//EN
CALSCALE:GREGORIAN
METHOD:PUBLISH
X-WR-CALNAME:From the Heart Church Ministries of Atlanta
X-ORIGINAL-URL:https://fromtheheartatlanta.org
X-WR-CALDESC:Events for From the Heart Church Ministries of Atlanta
REFRESH-INTERVAL;VALUE=DURATION:PT1H
X-Robots-Tag:noindex
X-PUBLISHED-TTL:PT1H
BEGIN:VTIMEZONE
TZID:America/New_York
BEGIN:DAYLIGHT
TZOFFSETFROM:-0500
TZOFFSETTO:-0400
TZNAME:EDT
DTSTART:20220313T070000
END:DAYLIGHT
BEGIN:STANDARD
TZOFFSETFROM:-0400
TZOFFSETTO:-0500
TZNAME:EST
DTSTART:20221106T060000
END:STANDARD
BEGIN:DAYLIGHT
TZOFFSETFROM:-0500
TZOFFSETTO:-0400
TZNAME:EDT
DTSTART:20230312T070000
END:DAYLIGHT
BEGIN:STANDARD
TZOFFSETFROM:-0400
TZOFFSETTO:-0500
TZNAME:EST
DTSTART:20231105T060000
END:STANDARD
BEGIN:DAYLIGHT
TZOFFSETFROM:-0500
TZOFFSETTO:-0400
TZNAME:EDT
DTSTART:20240310T070000
END:DAYLIGHT
BEGIN:STANDARD
TZOFFSETFROM:-0400
TZOFFSETTO:-0500
TZNAME:EST
DTSTART:20241103T060000
END:STANDARD
BEGIN:DAYLIGHT
TZOFFSETFROM:-0500
TZOFFSETTO:-0400
TZNAME:EDT
DTSTART:20250309T070000
END:DAYLIGHT
BEGIN:STANDARD
TZOFFSETFROM:-0400
TZOFFSETTO:-0500
TZNAME:EST
DTSTART:20251102T060000
END:STANDARD
BEGIN:DAYLIGHT
TZOFFSETFROM:-0500
TZOFFSETTO:-0400
TZNAME:EDT
DTSTART:20260308T070000
END:DAYLIGHT
BEGIN:STANDARD
TZOFFSETFROM:-0400
TZOFFSETTO:-0500
TZNAME:EST
DTSTART:20261101T060000
END:STANDARD
END:VTIMEZONE
BEGIN:VEVENT
DTSTART;TZID=America/New_York:20250816T100000
DTEND;TZID=America/New_York:20250816T120000
DTSTAMP:20260419T191520
CREATED:20250719T232810Z
LAST-MODIFIED:20250719T233234Z
UID:10000666-1755338400-1755345600@fromtheheartatlanta.org
SUMMARY:New Members Orientation
DESCRIPTION:New Members Orientation is required of all new members. At New Members Orientation\, you will learn valuable information about the church. Reverend Hunter will share how you may join the From the Heart family in spreading the wonderful news of Jesus Christ! \nIf you are a new member\, a member who has not completed New Members Orientation\, or if you would like to bring a non-member who desires to know more about From the Heart\, please sign-up today in Realm or contact us at love@fromtheheartatlanta.org. Non-members who desire to know more about what we believe and how we believe it\, please contact us at love@fromtheheartatlanta.org. All members are also encouraged to attend\, to welcome and show love to our newest members.
URL:https://fromtheheartatlanta.org/event/new-members-orientation-aug25/
LOCATION:Fellowship Hall\, 1583 Westhaven Dr. SW\, Atlanta\, GA\, 30311
CATEGORIES:Fellowship,Meeting,New Members
ATTACH;FMTTYPE=image/png:https://fromtheheartatlanta.org/wp-content/uploads/2023/06/calendar_orientation_july23.png
GEO:33.7327954;-84.4392279
X-APPLE-STRUCTURED-LOCATION;VALUE=URI;X-ADDRESS=Fellowship Hall 1583 Westhaven Dr. SW Atlanta GA 30311;X-APPLE-RADIUS=500;X-TITLE=1583 Westhaven Dr. SW:geo:-84.4392279,33.7327954
END:VEVENT
BEGIN:VEVENT
DTSTART;TZID=America/New_York:20240427T100000
DTEND;TZID=America/New_York:20240427T120000
DTSTAMP:20260419T191520
CREATED:20240423T162512Z
LAST-MODIFIED:20240423T162512Z
UID:10000649-1714212000-1714219200@fromtheheartatlanta.org
SUMMARY:New Members Orientation
DESCRIPTION:New Members Orientation is required of all new members. At New Members Orientation\, you will personally meet Pastor and Mrs. Starks and learn valuable information about the church. Pastor shares his call to preach the Gospel\, his vision for this local church\, and how you may join the From the Heart family in spreading the wonderful news of Jesus Christ! \nIf you are a new member\, a member who has not completed New Members Orientation\, or if you would like to bring a non-member who desires to know more about From the Heart\, please sign-up today in Realm or contact us at love@fromtheheartatlanta.org. Non-members who desire to know more about what we believe and how we believe it\, please contact us at love@fromtheheartatlanta.org. All members are also encouraged to attend\, to welcome and show love to our newest members. \nNote:  Lunch will be provided for all new members.
URL:https://fromtheheartatlanta.org/event/new-members-orientation-042724/
LOCATION:Fellowship Hall\, 1583 Westhaven Dr. SW\, Atlanta\, GA\, 30311
CATEGORIES:Fellowship,Meeting,New Members
ATTACH;FMTTYPE=image/png:https://fromtheheartatlanta.org/wp-content/uploads/2023/06/calendar_orientation_july23.png
GEO:33.7327954;-84.4392279
X-APPLE-STRUCTURED-LOCATION;VALUE=URI;X-ADDRESS=Fellowship Hall 1583 Westhaven Dr. SW Atlanta GA 30311;X-APPLE-RADIUS=500;X-TITLE=1583 Westhaven Dr. SW:geo:-84.4392279,33.7327954
END:VEVENT
BEGIN:VEVENT
DTSTART;TZID=America/New_York:20240113T100000
DTEND;TZID=America/New_York:20240113T120000
DTSTAMP:20260419T191520
CREATED:20240112T200421Z
LAST-MODIFIED:20240112T200628Z
UID:10000465-1705140000-1705147200@fromtheheartatlanta.org
SUMMARY:New Members Orientation
DESCRIPTION:New Members Orientation is required of all new members. At New Members Orientation\, you will personally meet Pastor and Mrs. Starks and learn valuable information about the church. Pastor shares his call to preach the Gospel\, his vision for this local church\, and how you may join the From the Heart family in spreading the wonderful news of Jesus Christ! \nIf you are a new member\, a member who has not completed New Members Orientation\, or if you would like to bring a non-member who desires to know more about From the Heart\, please sign-up today in Realm or contact us at love@fromtheheartatlanta.org. Non-members who desire to know more about what we believe and how we believe it\, please contact us at love@fromtheheartatlanta.org. All members are also encouraged to attend\, to welcome and show love to our newest members. \nNote:  Lunch will be provided for all new members.
URL:https://fromtheheartatlanta.org/event/new-members-orientation/
LOCATION:Fellowship Hall\, 1583 Westhaven Dr. SW\, Atlanta\, GA\, 30311
CATEGORIES:Fellowship,Meeting,New Members
ATTACH;FMTTYPE=image/png:https://fromtheheartatlanta.org/wp-content/uploads/2018/07/calendar_welcome.png
GEO:33.7327954;-84.4392279
X-APPLE-STRUCTURED-LOCATION;VALUE=URI;X-ADDRESS=Fellowship Hall 1583 Westhaven Dr. SW Atlanta GA 30311;X-APPLE-RADIUS=500;X-TITLE=1583 Westhaven Dr. SW:geo:-84.4392279,33.7327954
END:VEVENT
BEGIN:VEVENT
DTSTART;TZID=America/New_York:20231008T130000
DTEND;TZID=America/New_York:20231008T143000
DTSTAMP:20260419T191520
CREATED:20230808T192501Z
LAST-MODIFIED:20230812T161952Z
UID:10000422-1696770000-1696775400@fromtheheartatlanta.org
SUMMARY:Perfecting Class
DESCRIPTION:Perfecting Class is designed to help you in your Christian walk. The purpose of Perfecting Class is to teach you who we are and what we believe. It is in Perfecting Class that you will discover your functional gift(s) as referenced in Romans 12\, and learn how to apply them in ministry. At the end of Perfecting Class\, Pastor Starks will consecrate your gifts for service in the local church. \nIf you are a new member OR a member that has not completed a Perfecting Class\, please sign-up in Realm.
URL:https://fromtheheartatlanta.org/event/perfecting-class/2023-10-08/
LOCATION:Fellowship Hall\, 1583 Westhaven Dr. SW\, Atlanta\, GA\, 30311
CATEGORIES:Enrichment,New Members
ATTACH;FMTTYPE=image/png:https://fromtheheartatlanta.org/wp-content/uploads/2023/08/cal_perfectingclass.png
GEO:33.7327954;-84.4392279
X-APPLE-STRUCTURED-LOCATION;VALUE=URI;X-ADDRESS=Fellowship Hall 1583 Westhaven Dr. SW Atlanta GA 30311;X-APPLE-RADIUS=500;X-TITLE=1583 Westhaven Dr. SW:geo:-84.4392279,33.7327954
END:VEVENT
BEGIN:VEVENT
DTSTART;TZID=America/New_York:20231001T130000
DTEND;TZID=America/New_York:20231001T143000
DTSTAMP:20260419T191520
CREATED:20230808T192501Z
LAST-MODIFIED:20230812T161952Z
UID:10000421-1696165200-1696170600@fromtheheartatlanta.org
SUMMARY:Perfecting Class
DESCRIPTION:Perfecting Class is designed to help you in your Christian walk. The purpose of Perfecting Class is to teach you who we are and what we believe. It is in Perfecting Class that you will discover your functional gift(s) as referenced in Romans 12\, and learn how to apply them in ministry. At the end of Perfecting Class\, Pastor Starks will consecrate your gifts for service in the local church. \nIf you are a new member OR a member that has not completed a Perfecting Class\, please sign-up in Realm.
URL:https://fromtheheartatlanta.org/event/perfecting-class/2023-10-01/
LOCATION:Fellowship Hall\, 1583 Westhaven Dr. SW\, Atlanta\, GA\, 30311
CATEGORIES:Enrichment,New Members
ATTACH;FMTTYPE=image/png:https://fromtheheartatlanta.org/wp-content/uploads/2023/08/cal_perfectingclass.png
GEO:33.7327954;-84.4392279
X-APPLE-STRUCTURED-LOCATION;VALUE=URI;X-ADDRESS=Fellowship Hall 1583 Westhaven Dr. SW Atlanta GA 30311;X-APPLE-RADIUS=500;X-TITLE=1583 Westhaven Dr. SW:geo:-84.4392279,33.7327954
END:VEVENT
BEGIN:VEVENT
DTSTART;TZID=America/New_York:20230924T130000
DTEND;TZID=America/New_York:20230924T143000
DTSTAMP:20260419T191520
CREATED:20230808T192501Z
LAST-MODIFIED:20230812T161952Z
UID:10000418-1695560400-1695565800@fromtheheartatlanta.org
SUMMARY:Perfecting Class
DESCRIPTION:Perfecting Class is designed to help you in your Christian walk. The purpose of Perfecting Class is to teach you who we are and what we believe. It is in Perfecting Class that you will discover your functional gift(s) as referenced in Romans 12\, and learn how to apply them in ministry. At the end of Perfecting Class\, Pastor Starks will consecrate your gifts for service in the local church. \nIf you are a new member OR a member that has not completed a Perfecting Class\, please sign-up in Realm.
URL:https://fromtheheartatlanta.org/event/perfecting-class/2023-09-24/
LOCATION:Fellowship Hall\, 1583 Westhaven Dr. SW\, Atlanta\, GA\, 30311
CATEGORIES:Enrichment,New Members
ATTACH;FMTTYPE=image/png:https://fromtheheartatlanta.org/wp-content/uploads/2023/08/cal_perfectingclass.png
GEO:33.7327954;-84.4392279
X-APPLE-STRUCTURED-LOCATION;VALUE=URI;X-ADDRESS=Fellowship Hall 1583 Westhaven Dr. SW Atlanta GA 30311;X-APPLE-RADIUS=500;X-TITLE=1583 Westhaven Dr. SW:geo:-84.4392279,33.7327954
END:VEVENT
BEGIN:VEVENT
DTSTART;TZID=America/New_York:20230917T130000
DTEND;TZID=America/New_York:20230917T143000
DTSTAMP:20260419T191520
CREATED:20230808T192501Z
LAST-MODIFIED:20230812T161952Z
UID:10000417-1694955600-1694961000@fromtheheartatlanta.org
SUMMARY:Perfecting Class
DESCRIPTION:Perfecting Class is designed to help you in your Christian walk. The purpose of Perfecting Class is to teach you who we are and what we believe. It is in Perfecting Class that you will discover your functional gift(s) as referenced in Romans 12\, and learn how to apply them in ministry. At the end of Perfecting Class\, Pastor Starks will consecrate your gifts for service in the local church. \nIf you are a new member OR a member that has not completed a Perfecting Class\, please sign-up in Realm.
URL:https://fromtheheartatlanta.org/event/perfecting-class/2023-09-17/
LOCATION:Fellowship Hall\, 1583 Westhaven Dr. SW\, Atlanta\, GA\, 30311
CATEGORIES:Enrichment,New Members
ATTACH;FMTTYPE=image/png:https://fromtheheartatlanta.org/wp-content/uploads/2023/08/cal_perfectingclass.png
GEO:33.7327954;-84.4392279
X-APPLE-STRUCTURED-LOCATION;VALUE=URI;X-ADDRESS=Fellowship Hall 1583 Westhaven Dr. SW Atlanta GA 30311;X-APPLE-RADIUS=500;X-TITLE=1583 Westhaven Dr. SW:geo:-84.4392279,33.7327954
END:VEVENT
BEGIN:VEVENT
DTSTART;TZID=America/New_York:20230910T130000
DTEND;TZID=America/New_York:20230910T143000
DTSTAMP:20260419T191520
CREATED:20230808T192501Z
LAST-MODIFIED:20230812T161952Z
UID:10000416-1694350800-1694356200@fromtheheartatlanta.org
SUMMARY:Perfecting Class
DESCRIPTION:Perfecting Class is designed to help you in your Christian walk. The purpose of Perfecting Class is to teach you who we are and what we believe. It is in Perfecting Class that you will discover your functional gift(s) as referenced in Romans 12\, and learn how to apply them in ministry. At the end of Perfecting Class\, Pastor Starks will consecrate your gifts for service in the local church. \nIf you are a new member OR a member that has not completed a Perfecting Class\, please sign-up in Realm.
URL:https://fromtheheartatlanta.org/event/perfecting-class/2023-09-10/
LOCATION:Fellowship Hall\, 1583 Westhaven Dr. SW\, Atlanta\, GA\, 30311
CATEGORIES:Enrichment,New Members
ATTACH;FMTTYPE=image/png:https://fromtheheartatlanta.org/wp-content/uploads/2023/08/cal_perfectingclass.png
GEO:33.7327954;-84.4392279
X-APPLE-STRUCTURED-LOCATION;VALUE=URI;X-ADDRESS=Fellowship Hall 1583 Westhaven Dr. SW Atlanta GA 30311;X-APPLE-RADIUS=500;X-TITLE=1583 Westhaven Dr. SW:geo:-84.4392279,33.7327954
END:VEVENT
BEGIN:VEVENT
DTSTART;TZID=America/New_York:20230903T130000
DTEND;TZID=America/New_York:20230903T143000
DTSTAMP:20260419T191520
CREATED:20230808T192501Z
LAST-MODIFIED:20230812T161952Z
UID:10000415-1693746000-1693751400@fromtheheartatlanta.org
SUMMARY:Perfecting Class
DESCRIPTION:Perfecting Class is designed to help you in your Christian walk. The purpose of Perfecting Class is to teach you who we are and what we believe. It is in Perfecting Class that you will discover your functional gift(s) as referenced in Romans 12\, and learn how to apply them in ministry. At the end of Perfecting Class\, Pastor Starks will consecrate your gifts for service in the local church. \nIf you are a new member OR a member that has not completed a Perfecting Class\, please sign-up in Realm.
URL:https://fromtheheartatlanta.org/event/perfecting-class/2023-09-03/
LOCATION:Fellowship Hall\, 1583 Westhaven Dr. SW\, Atlanta\, GA\, 30311
CATEGORIES:Enrichment,New Members
ATTACH;FMTTYPE=image/png:https://fromtheheartatlanta.org/wp-content/uploads/2023/08/cal_perfectingclass.png
GEO:33.7327954;-84.4392279
X-APPLE-STRUCTURED-LOCATION;VALUE=URI;X-ADDRESS=Fellowship Hall 1583 Westhaven Dr. SW Atlanta GA 30311;X-APPLE-RADIUS=500;X-TITLE=1583 Westhaven Dr. SW:geo:-84.4392279,33.7327954
END:VEVENT
BEGIN:VEVENT
DTSTART;TZID=America/New_York:20230827T130000
DTEND;TZID=America/New_York:20230827T143000
DTSTAMP:20260419T191520
CREATED:20230808T192501Z
LAST-MODIFIED:20230812T161952Z
UID:10000414-1693141200-1693146600@fromtheheartatlanta.org
SUMMARY:Perfecting Class
DESCRIPTION:Perfecting Class is designed to help you in your Christian walk. The purpose of Perfecting Class is to teach you who we are and what we believe. It is in Perfecting Class that you will discover your functional gift(s) as referenced in Romans 12\, and learn how to apply them in ministry. At the end of Perfecting Class\, Pastor Starks will consecrate your gifts for service in the local church. \nIf you are a new member OR a member that has not completed a Perfecting Class\, please sign-up in Realm.
URL:https://fromtheheartatlanta.org/event/perfecting-class/2023-08-27/
LOCATION:Fellowship Hall\, 1583 Westhaven Dr. SW\, Atlanta\, GA\, 30311
CATEGORIES:Enrichment,New Members
ATTACH;FMTTYPE=image/png:https://fromtheheartatlanta.org/wp-content/uploads/2023/08/cal_perfectingclass.png
GEO:33.7327954;-84.4392279
X-APPLE-STRUCTURED-LOCATION;VALUE=URI;X-ADDRESS=Fellowship Hall 1583 Westhaven Dr. SW Atlanta GA 30311;X-APPLE-RADIUS=500;X-TITLE=1583 Westhaven Dr. SW:geo:-84.4392279,33.7327954
END:VEVENT
BEGIN:VEVENT
DTSTART;TZID=America/New_York:20230708T100000
DTEND;TZID=America/New_York:20230708T120000
DTSTAMP:20260419T191520
CREATED:20230221T174733Z
LAST-MODIFIED:20230703T175318Z
UID:10000411-1688810400-1688817600@fromtheheartatlanta.org
SUMMARY:New Members Orientation
DESCRIPTION:New Members Orientation is required of all new members. At New Members Orientation\, you will personally meet Pastor and Mrs. Starks and learn valuable information about the church. Pastor shares his call to preach the Gospel\, his vision for this local church\, and how you may join the From the Heart family in spreading the wonderful news of Jesus Christ! \nIf you are a new member OR a member that has not completed New Members Orientation\, please sign-up today in Realm or contact us at love@fromtheheartatlanta.org. Non-members who desire to know more about what we believe and how we believe it\, please contact us at love@fromtheheartatlanta.org. All members are also encouraged to attend to welcome and show love to our newest members.
URL:https://fromtheheartatlanta.org/event/new-members-orientation-march2023/2023-07-08/
LOCATION:Sanctuary\, 1583 Westhaven Dr. SW\, Atlanta\, GA\, 30311
CATEGORIES:New Members
ATTACH;FMTTYPE=image/png:https://fromtheheartatlanta.org/wp-content/uploads/2018/07/calendar_welcome.png
GEO:33.7327954;-84.4392279
X-APPLE-STRUCTURED-LOCATION;VALUE=URI;X-ADDRESS=Sanctuary 1583 Westhaven Dr. SW Atlanta GA 30311;X-APPLE-RADIUS=500;X-TITLE=1583 Westhaven Dr. SW:geo:-84.4392279,33.7327954
END:VEVENT
BEGIN:VEVENT
DTSTART;TZID=America/New_York:20230311T100000
DTEND;TZID=America/New_York:20230311T120000
DTSTAMP:20260419T191520
CREATED:20230221T174733Z
LAST-MODIFIED:20230703T175318Z
UID:10000352-1678528800-1678536000@fromtheheartatlanta.org
SUMMARY:New Members Orientation
DESCRIPTION:New Members Orientation is required of all new members. At New Members Orientation\, you will personally meet Pastor and Mrs. Starks and learn valuable information about the church. Pastor shares his call to preach the Gospel\, his vision for this local church\, and how you may join the From the Heart family in spreading the wonderful news of Jesus Christ! \nIf you are a new member OR a member that has not completed New Members Orientation\, please sign-up today in Realm or contact us at love@fromtheheartatlanta.org. Non-members who desire to know more about what we believe and how we believe it\, please contact us at love@fromtheheartatlanta.org. All members are also encouraged to attend to welcome and show love to our newest members.
URL:https://fromtheheartatlanta.org/event/new-members-orientation-march2023/2023-03-11/
LOCATION:Sanctuary\, 1583 Westhaven Dr. SW\, Atlanta\, GA\, 30311
CATEGORIES:New Members
ATTACH;FMTTYPE=image/png:https://fromtheheartatlanta.org/wp-content/uploads/2018/07/calendar_welcome.png
GEO:33.7327954;-84.4392279
X-APPLE-STRUCTURED-LOCATION;VALUE=URI;X-ADDRESS=Sanctuary 1583 Westhaven Dr. SW Atlanta GA 30311;X-APPLE-RADIUS=500;X-TITLE=1583 Westhaven Dr. SW:geo:-84.4392279,33.7327954
END:VEVENT
END:VCALENDAR