BEGIN:VCALENDAR
VERSION:2.0
PRODID:-//From the Heart Church Ministries of Atlanta - ECPv6.15.20//NONSGML v1.0//EN
CALSCALE:GREGORIAN
METHOD:PUBLISH
X-WR-CALNAME:From the Heart Church Ministries of Atlanta
X-ORIGINAL-URL:https://fromtheheartatlanta.org
X-WR-CALDESC:Events for From the Heart Church Ministries of Atlanta
REFRESH-INTERVAL;VALUE=DURATION:PT1H
X-Robots-Tag:noindex
X-PUBLISHED-TTL:PT1H
BEGIN:VTIMEZONE
TZID:America/New_York
BEGIN:DAYLIGHT
TZOFFSETFROM:-0500
TZOFFSETTO:-0400
TZNAME:EDT
DTSTART:20220313T070000
END:DAYLIGHT
BEGIN:STANDARD
TZOFFSETFROM:-0400
TZOFFSETTO:-0500
TZNAME:EST
DTSTART:20221106T060000
END:STANDARD
BEGIN:DAYLIGHT
TZOFFSETFROM:-0500
TZOFFSETTO:-0400
TZNAME:EDT
DTSTART:20230312T070000
END:DAYLIGHT
BEGIN:STANDARD
TZOFFSETFROM:-0400
TZOFFSETTO:-0500
TZNAME:EST
DTSTART:20231105T060000
END:STANDARD
BEGIN:DAYLIGHT
TZOFFSETFROM:-0500
TZOFFSETTO:-0400
TZNAME:EDT
DTSTART:20240310T070000
END:DAYLIGHT
BEGIN:STANDARD
TZOFFSETFROM:-0400
TZOFFSETTO:-0500
TZNAME:EST
DTSTART:20241103T060000
END:STANDARD
BEGIN:DAYLIGHT
TZOFFSETFROM:-0500
TZOFFSETTO:-0400
TZNAME:EDT
DTSTART:20250309T070000
END:DAYLIGHT
BEGIN:STANDARD
TZOFFSETFROM:-0400
TZOFFSETTO:-0500
TZNAME:EST
DTSTART:20251102T060000
END:STANDARD
END:VTIMEZONE
BEGIN:VEVENT
DTSTART;TZID=America/New_York:20240601T110000
DTEND;TZID=America/New_York:20240601T150000
DTSTAMP:20260419T191519
CREATED:20240406T001840Z
LAST-MODIFIED:20240416T174542Z
UID:10000647-1717239600-1717254000@fromtheheartatlanta.org
SUMMARY:From the Heart Marketplace
DESCRIPTION:The From the Heart Marketplace is a great opportunity to support local businesses and connect with the community. There will be a variety of designer items\, custom artwork\, custom wear\, and much more. \nThis is an outdoor event and attendance is FREE.  There will be giveaways\, prizes\, concessions and activities for children while you shop. Whether you’re looking for a gift or just treating yourself\, there’s something here for everyone.  \nSo gather your friends and family\, download and share the digital flyer\, come on down\, and let’s discover amazing treasures together at the From the Heart Marketplace! \nHope to see you there!  You will not want to miss it! \nCalling All Vendors!\nIf you have a unique item that you want to sell or own a small business that you want to advertise\, please click here to register. The cost is $80 for a table and two chairs. Tables are going quickly\, so be sure to reserve yours today!  Payment must be received no later than Saturday\, May 18\, 2024.
URL:https://fromtheheartatlanta.org/event/from-the-heart-marketplace/
LOCATION:Parking Lot\, 1583 Westhaven Dr SW\, Atlanta\, GA\, 30331
CATEGORIES:Fellowship,Fundraiser,Outreach
ATTACH;FMTTYPE=image/png:https://fromtheheartatlanta.org/wp-content/uploads/2024/04/cal_fthmarketplace-1.png
END:VEVENT
BEGIN:VEVENT
DTSTART;TZID=America/New_York:20240420T130000
DTEND;TZID=America/New_York:20240420T160000
DTSTAMP:20260419T191519
CREATED:20240410T234629Z
LAST-MODIFIED:20240410T234629Z
UID:10000648-1713618000-1713628800@fromtheheartatlanta.org
SUMMARY:Community Fellowship
DESCRIPTION:Hosted by Membership Care Ministry and Helps Ministry. Community fellowships are designed to help strengthen the church. Invite your neighbors\, family and friends to enjoy a wholesome time of fun\, food and fellowship. Feel free to bring your favorite games.
URL:https://fromtheheartatlanta.org/event/community-fellowship-apr24/
CATEGORIES:Fellowship,Outreach
ATTACH;FMTTYPE=image/png:https://fromtheheartatlanta.org/wp-content/uploads/2024/04/cal_communityfellowship.png
END:VEVENT
BEGIN:VEVENT
DTSTART;TZID=America/New_York:20231021T130000
DTEND;TZID=America/New_York:20231021T170000
DTSTAMP:20260419T191519
CREATED:20230924T023112Z
LAST-MODIFIED:20230924T023113Z
UID:10000425-1697893200-1697907600@fromtheheartatlanta.org
SUMMARY:Community Fellowship
DESCRIPTION:A Community Fellowship is coming to the South-side of Atlanta on Saturday\, October 21 from 1:00 p.m. to 5:00 p.m.  Stay tuned for additional information.
URL:https://fromtheheartatlanta.org/event/community-fellowship/
CATEGORIES:Fellowship,Outreach
ATTACH;FMTTYPE=image/png:https://fromtheheartatlanta.org/wp-content/uploads/2023/07/calendar_communityoutreach_july23.png
END:VEVENT
BEGIN:VEVENT
DTSTART;TZID=America/New_York:20230930T110000
DTEND;TZID=America/New_York:20230930T170000
DTSTAMP:20260419T191519
CREATED:20230914T144343Z
LAST-MODIFIED:20230921T155538Z
UID:10000424-1696071600-1696093200@fromtheheartatlanta.org
SUMMARY:Family and Friends Event
DESCRIPTION:WHO’S READY FOR FOOD\, FUN\, AND FELLOWSHIP! Come on out September 30th! From the Heart Church of Atlanta will be hosting its annual “Family And Friends” Day where we are showcasing the love of God through multiple avenues of ministry\, games\, and prizes \nHere at FTH we emphasize the importance of seeking and saving the lost and to allow the love of God to help others to become made whole in Christ. This is an event that is open to the Cascade community so that we can be able to reach those families and individuals to service them with the upmost care. \nWe will have trivias\, carnival games\, a food truck\, face painting\, spiritual workshops\, prayer sessions\, and SO MUCH MORE! So tell a friend to tell a friend or family member to come on out! Doors open at 11am! Be sure to also join us for our church service Sunday\, October 1st which also starts at 11am! \nRSVP NOW AND WE CANT WAIT TO MEET YOU WITH LOVE!
URL:https://fromtheheartatlanta.org/event/family-and-friends-event/
LOCATION:Parking Lot\, 1583 Westhaven Dr SW\, Atlanta\, GA\, 30331
CATEGORIES:Fellowship,Outreach,Services,Sports & Fitness
ATTACH;FMTTYPE=image/png:https://fromtheheartatlanta.org/wp-content/uploads/2023/09/calendar_familyfriends_sept23.png
END:VEVENT
BEGIN:VEVENT
DTSTART;TZID=America/New_York:20230916T100000
DTEND;TZID=America/New_York:20230916T120000
DTSTAMP:20260419T191519
CREATED:20230914T143808Z
LAST-MODIFIED:20230914T143808Z
UID:10000423-1694858400-1694865600@fromtheheartatlanta.org
SUMMARY:Prayer Workshop
DESCRIPTION:This workshop will continue to focus on empowering all youth with knowledge and to strengthen their prayer life. We will have an extensive review from the first workshop where we discussed “Understanding Prayer\, Why Pray? How to Pray and much\, much more. We will also discuss the Ministry and the Baptism with the Holy Spirit. \nAs we have been taught\, prayer is one of our offensive weapons to defeat the enemy. We all need prayer and need to know how to access God through prayer. We need to know that prayer works\, and it is vitally important that our youth know how to pray to a God who hears\, sees\, knows and most of all cares for every situation that they encounter in life. \nCome out and invite others to join this important workshop for our youth! It’s open to everyone!
URL:https://fromtheheartatlanta.org/event/prayer-workshop-2/
LOCATION:Fellowship Hall\, 1583 Westhaven Dr. SW\, Atlanta\, GA\, 30311
CATEGORIES:Fellowship,Outreach,Prayer,Youth
ATTACH;FMTTYPE=image/png:https://fromtheheartatlanta.org/wp-content/uploads/2023/04/calendar_prayerworkshop-2.png
GEO:33.7327954;-84.4392279
X-APPLE-STRUCTURED-LOCATION;VALUE=URI;X-ADDRESS=Fellowship Hall 1583 Westhaven Dr. SW Atlanta GA 30311;X-APPLE-RADIUS=500;X-TITLE=1583 Westhaven Dr. SW:geo:-84.4392279,33.7327954
END:VEVENT
BEGIN:VEVENT
DTSTART;TZID=America/New_York:20230729T100000
DTEND;TZID=America/New_York:20230729T120000
DTSTAMP:20260419T191519
CREATED:20230702T131207Z
LAST-MODIFIED:20230725T141303Z
UID:10000410-1690624800-1690632000@fromtheheartatlanta.org
SUMMARY:Back-2-School Youth Real Talk
DESCRIPTION:From the Heart Youth Ministry is inviting all youth ages 10 to 17 to a Back-2-School Youth Real Talk on Saturday\, July 29 from 10:00 a.m. to 1:00 p.m. \nCome out to ask and discuss what’s on your heart or send confidential questions to love@fromtheheartatlanta.org. There will be a panelist to answer and discuss your questions and concerns in a judgement free zone! Refreshments will be served and school supplies will be distributed on a first-come\, first-served basis.  Also\, there will be FREE haircuts for boys and grooming tips for girls. Feel free to invite your friends\, neighbors\, and family! \nFTH family\, we are accepting donations for school supplies! Please bring them to the church by Sunday\, July 23. Suggested school supplies are listed below.  Note: If you desire to donate a bookbag\, it must be clear or mesh. \nBookbags \nCrayons \nGlue Sticks \nScissors \nColor pencils \nCrayola markers \nNotebook paper \nExpo markers \nDry erase markers \nComposition notebook \n#2 Pencils \nHighlighters \nIndex cards \nHighlighters \nErasers \nPencil sharpener \nBallpoint pens (Blue\, Black\, Red) \nPencil pouch \nNotebooks \n3-Ring Binders \n3-Subject Notebooks (College Rule) \n5-Subject Notebooks (College Rule) \n2-Pocket folders with prongs
URL:https://fromtheheartatlanta.org/event/back-2-school-youth-real-talk/
LOCATION:Fellowship Hall\, 1583 Westhaven Dr. SW\, Atlanta\, GA\, 30311
CATEGORIES:Enrichment,Fellowship,Outreach,Youth
ATTACH;FMTTYPE=image/png:https://fromtheheartatlanta.org/wp-content/uploads/2023/07/calendar_back2school_july23.png
GEO:33.7327954;-84.4392279
X-APPLE-STRUCTURED-LOCATION;VALUE=URI;X-ADDRESS=Fellowship Hall 1583 Westhaven Dr. SW Atlanta GA 30311;X-APPLE-RADIUS=500;X-TITLE=1583 Westhaven Dr. SW:geo:-84.4392279,33.7327954
END:VEVENT
BEGIN:VEVENT
DTSTART;TZID=America/New_York:20230715T160000
DTEND;TZID=America/New_York:20230715T180000
DTSTAMP:20260419T191519
CREATED:20230708T234849Z
LAST-MODIFIED:20230708T234850Z
UID:10000412-1689436800-1689444000@fromtheheartatlanta.org
SUMMARY:Community Outreach
DESCRIPTION:Membership Care and Community Outreach will be hosting a COMMUNITY FELLOWSHIP on Saturday\, July 15 from 4:00 to 6:00 p.m. at the home of Minister Wanda A. Howard.  Community fellowships are designed to help strengthen the church as well as an opportunity to invite your neighbors\, family and friends to enjoy a wholesome time of fun\, food and fellowship. Feel free to bring your favorite games and don’t forget your favorite lawn chair! \nIf you plan to attend\, we are asking that you sign-up to bring a dish or beverage. \nNote:  You will receive an email confirmation with the location.
URL:https://fromtheheartatlanta.org/event/community-outreach/
CATEGORIES:Fellowship,Outreach
ATTACH;FMTTYPE=image/png:https://fromtheheartatlanta.org/wp-content/uploads/2023/07/calendar_communityoutreach_july23.png
END:VEVENT
BEGIN:VEVENT
DTSTART;VALUE=DATE:20230520
DTEND;VALUE=DATE:20230521
DTSTAMP:20260419T191519
CREATED:20230426T020057Z
LAST-MODIFIED:20230426T020057Z
UID:10000364-1684540800-1684627199@fromtheheartatlanta.org
SUMMARY:Prayer Workshop
DESCRIPTION:Intercessory Prayer and Youth Ministry presents Prayer Workshop. Additional information will be put in Realm
URL:https://fromtheheartatlanta.org/event/prayer-workshop/
LOCATION:Fellowship Hall\, 1583 Westhaven Dr. SW\, Atlanta\, GA\, 30311
CATEGORIES:Fellowship,Outreach,Prayer,Youth
ATTACH;FMTTYPE=image/png:https://fromtheheartatlanta.org/wp-content/uploads/2023/04/calendar_prayerworkshop-2.png
GEO:33.7327954;-84.4392279
X-APPLE-STRUCTURED-LOCATION;VALUE=URI;X-ADDRESS=Fellowship Hall 1583 Westhaven Dr. SW Atlanta GA 30311;X-APPLE-RADIUS=500;X-TITLE=1583 Westhaven Dr. SW:geo:-84.4392279,33.7327954
END:VEVENT
BEGIN:VEVENT
DTSTART;VALUE=DATE:20230504
DTEND;VALUE=DATE:20230505
DTSTAMP:20260419T191519
CREATED:20230426T020206Z
LAST-MODIFIED:20230502T174700Z
UID:10000363-1683158400-1683244799@fromtheheartatlanta.org
SUMMARY:Virtual National Day Of Prayer
DESCRIPTION:Join the Intercessory Prayer Ministry and the Triangle Cascade of Churches (Chapel of Christian Love\, Community Church and From the Heart of Atlanta) on Thursday\, May 4\, 2023\, for the National Day of Prayer at 7:00 p.m. The theme is “Pray Fervently in Righteousness and Avail Much.” \n“The effectual fervent prayer of a righteous man availeth much.” (James 5:16b) \nChapel of Christian Love is hosting this year’s National Day of Prayer by Zoom. Please see the Zoom information below. Also\, if you would like to join other intercessors for Pre-Prayer\, you may connect with us on Monday\, May 1 at 7:00 p.m. using the same Zoom information below: \nNational Day of Prayer Dial-in number: 929-436-2866. Meeting ID is 4046593390. Passcode is 875. \nOr join via Zoom: https://zoom.us/j/4046593390?pwd=L3lUbkR2c0poMlJMUWxaRTVRRzZhdz09 \nNote: The views expressed on the National Day of Prayer website and other advertisements regarding the National Day of Prayer are not necessarily the views of From the Heart Church Ministries Worldwide®.
URL:https://fromtheheartatlanta.org/event/virtual-national-day-of-prayer/
LOCATION:Zoom Call\, GA
CATEGORIES:Fellowship,Outreach,Prayer
ATTACH;FMTTYPE=image/png:https://fromtheheartatlanta.org/wp-content/uploads/2023/04/calendar_prayerworkshop.png
END:VEVENT
END:VCALENDAR