BEGIN:VCALENDAR
VERSION:2.0
PRODID:-//From the Heart Church Ministries of Atlanta - ECPv6.15.20//NONSGML v1.0//EN
CALSCALE:GREGORIAN
METHOD:PUBLISH
X-WR-CALNAME:From the Heart Church Ministries of Atlanta
X-ORIGINAL-URL:https://fromtheheartatlanta.org
X-WR-CALDESC:Events for From the Heart Church Ministries of Atlanta
REFRESH-INTERVAL;VALUE=DURATION:PT1H
X-Robots-Tag:noindex
X-PUBLISHED-TTL:PT1H
BEGIN:VTIMEZONE
TZID:America/New_York
BEGIN:DAYLIGHT
TZOFFSETFROM:-0500
TZOFFSETTO:-0400
TZNAME:EDT
DTSTART:20220313T070000
END:DAYLIGHT
BEGIN:STANDARD
TZOFFSETFROM:-0400
TZOFFSETTO:-0500
TZNAME:EST
DTSTART:20221106T060000
END:STANDARD
BEGIN:DAYLIGHT
TZOFFSETFROM:-0500
TZOFFSETTO:-0400
TZNAME:EDT
DTSTART:20230312T070000
END:DAYLIGHT
BEGIN:STANDARD
TZOFFSETFROM:-0400
TZOFFSETTO:-0500
TZNAME:EST
DTSTART:20231105T060000
END:STANDARD
BEGIN:DAYLIGHT
TZOFFSETFROM:-0500
TZOFFSETTO:-0400
TZNAME:EDT
DTSTART:20240310T070000
END:DAYLIGHT
BEGIN:STANDARD
TZOFFSETFROM:-0400
TZOFFSETTO:-0500
TZNAME:EST
DTSTART:20241103T060000
END:STANDARD
END:VTIMEZONE
BEGIN:VEVENT
DTSTART;TZID=America/New_York:20230930T110000
DTEND;TZID=America/New_York:20230930T170000
DTSTAMP:20260419T205921
CREATED:20230914T144343Z
LAST-MODIFIED:20230921T155538Z
UID:10000424-1696071600-1696093200@fromtheheartatlanta.org
SUMMARY:Family and Friends Event
DESCRIPTION:WHO’S READY FOR FOOD\, FUN\, AND FELLOWSHIP! Come on out September 30th! From the Heart Church of Atlanta will be hosting its annual “Family And Friends” Day where we are showcasing the love of God through multiple avenues of ministry\, games\, and prizes \nHere at FTH we emphasize the importance of seeking and saving the lost and to allow the love of God to help others to become made whole in Christ. This is an event that is open to the Cascade community so that we can be able to reach those families and individuals to service them with the upmost care. \nWe will have trivias\, carnival games\, a food truck\, face painting\, spiritual workshops\, prayer sessions\, and SO MUCH MORE! So tell a friend to tell a friend or family member to come on out! Doors open at 11am! Be sure to also join us for our church service Sunday\, October 1st which also starts at 11am! \nRSVP NOW AND WE CANT WAIT TO MEET YOU WITH LOVE!
URL:https://fromtheheartatlanta.org/event/family-and-friends-event/
LOCATION:Parking Lot\, 1583 Westhaven Dr SW\, Atlanta\, GA\, 30331
CATEGORIES:Fellowship,Outreach,Services,Sports & Fitness
ATTACH;FMTTYPE=image/png:https://fromtheheartatlanta.org/wp-content/uploads/2023/09/calendar_familyfriends_sept23.png
END:VEVENT
BEGIN:VEVENT
DTSTART;TZID=America/New_York:20230722T100000
DTEND;TZID=America/New_York:20230722T120000
DTSTAMP:20260419T205921
CREATED:20230702T130740Z
LAST-MODIFIED:20230702T130741Z
UID:10000409-1690020000-1690027200@fromtheheartatlanta.org
SUMMARY:Walk That Mountain
DESCRIPTION:This activity is designed to strengthen your endurance and increase cardiovascular performance. So put on your “climbing/hiking shoes and let’s walk up and conquer that mountain! Free parking is located at 922 Main Street\, Stone Mountain\, GA 30083 which is where participants will gather as a group and go into the park together. \nNote: A fitness waiver form will be required to complete.
URL:https://fromtheheartatlanta.org/event/walk-that-mountain/
LOCATION:Stone Mountain Park\, 1000 Robert E Lee Blvd\, Stone Mountain\, GA\, 30083
CATEGORIES:Fellowship,Sports & Fitness
ATTACH;FMTTYPE=image/png:https://fromtheheartatlanta.org/wp-content/uploads/2023/07/calendar_stonemountain_july23.png
GEO:33.8126209;-84.1458788
X-APPLE-STRUCTURED-LOCATION;VALUE=URI;X-ADDRESS=Stone Mountain Park 1000 Robert E Lee Blvd Stone Mountain GA 30083;X-APPLE-RADIUS=500;X-TITLE=1000 Robert E Lee Blvd:geo:-84.1458788,33.8126209
END:VEVENT
END:VCALENDAR