BEGIN:VCALENDAR
VERSION:2.0
PRODID:-//From the Heart Church Ministries of Atlanta - ECPv6.15.20//NONSGML v1.0//EN
CALSCALE:GREGORIAN
METHOD:PUBLISH
X-ORIGINAL-URL:https://fromtheheartatlanta.org
X-WR-CALDESC:Events for From the Heart Church Ministries of Atlanta
REFRESH-INTERVAL;VALUE=DURATION:PT1H
X-Robots-Tag:noindex
X-PUBLISHED-TTL:PT1H
BEGIN:VTIMEZONE
TZID:America/New_York
BEGIN:DAYLIGHT
TZOFFSETFROM:-0500
TZOFFSETTO:-0400
TZNAME:EDT
DTSTART:20270314T070000
END:DAYLIGHT
BEGIN:STANDARD
TZOFFSETFROM:-0400
TZOFFSETTO:-0500
TZNAME:EST
DTSTART:20271107T060000
END:STANDARD
BEGIN:DAYLIGHT
TZOFFSETFROM:-0500
TZOFFSETTO:-0400
TZNAME:EDT
DTSTART:20280312T070000
END:DAYLIGHT
BEGIN:STANDARD
TZOFFSETFROM:-0400
TZOFFSETTO:-0500
TZNAME:EST
DTSTART:20281105T060000
END:STANDARD
BEGIN:DAYLIGHT
TZOFFSETFROM:-0500
TZOFFSETTO:-0400
TZNAME:EDT
DTSTART:20290311T070000
END:DAYLIGHT
BEGIN:STANDARD
TZOFFSETFROM:-0400
TZOFFSETTO:-0500
TZNAME:EST
DTSTART:20291104T060000
END:STANDARD
BEGIN:DAYLIGHT
TZOFFSETFROM:-0500
TZOFFSETTO:-0400
TZNAME:EDT
DTSTART:20300310T070000
END:DAYLIGHT
BEGIN:STANDARD
TZOFFSETFROM:-0400
TZOFFSETTO:-0500
TZNAME:EST
DTSTART:20301103T060000
END:STANDARD
END:VTIMEZONE
BEGIN:VEVENT
DTSTART;TZID=America/New_York:20281203T110000
DTEND;TZID=America/New_York:20281203T130000
DTSTAMP:20260420T094442
CREATED:20230215T205004Z
LAST-MODIFIED:20230215T205004Z
UID:10000463-1859454000-1859461200@fromtheheartatlanta.org
SUMMARY:Sunday Worship Service
DESCRIPTION:Our Sunday Worship Service begins with our Ministry of Praise promptly at 11:00 a.m. with spirit-filled singing led by our Praise Team. The message is delivered through simple\, scriptural\, Christ-centered Bible teaching. \nWe look forward to seeing you!
URL:https://fromtheheartatlanta.org/event/sunday-worship-service-4/2028-12-03/
LOCATION:Sanctuary\, 1583 Westhaven Dr. SW\, Atlanta\, GA\, 30311
CATEGORIES:Services
ATTACH;FMTTYPE=image/png:https://fromtheheartatlanta.org/wp-content/uploads/2020/04/cal_sundayworship.png
GEO:33.7327954;-84.4392279
X-APPLE-STRUCTURED-LOCATION;VALUE=URI;X-ADDRESS=Sanctuary 1583 Westhaven Dr. SW Atlanta GA 30311;X-APPLE-RADIUS=500;X-TITLE=1583 Westhaven Dr. SW:geo:-84.4392279,33.7327954
END:VEVENT
BEGIN:VEVENT
DTSTART;TZID=America/New_York:20281210T110000
DTEND;TZID=America/New_York:20281210T130000
DTSTAMP:20260420T094442
CREATED:20230215T205004Z
LAST-MODIFIED:20230215T205004Z
UID:10000464-1860058800-1860066000@fromtheheartatlanta.org
SUMMARY:Sunday Worship Service
DESCRIPTION:Our Sunday Worship Service begins with our Ministry of Praise promptly at 11:00 a.m. with spirit-filled singing led by our Praise Team. The message is delivered through simple\, scriptural\, Christ-centered Bible teaching. \nWe look forward to seeing you!
URL:https://fromtheheartatlanta.org/event/sunday-worship-service-4/2028-12-10/
LOCATION:Sanctuary\, 1583 Westhaven Dr. SW\, Atlanta\, GA\, 30311
CATEGORIES:Services
ATTACH;FMTTYPE=image/png:https://fromtheheartatlanta.org/wp-content/uploads/2020/04/cal_sundayworship.png
GEO:33.7327954;-84.4392279
X-APPLE-STRUCTURED-LOCATION;VALUE=URI;X-ADDRESS=Sanctuary 1583 Westhaven Dr. SW Atlanta GA 30311;X-APPLE-RADIUS=500;X-TITLE=1583 Westhaven Dr. SW:geo:-84.4392279,33.7327954
END:VEVENT
BEGIN:VEVENT
DTSTART;TZID=America/New_York:20281217T110000
DTEND;TZID=America/New_York:20281217T130000
DTSTAMP:20260420T094442
CREATED:20230215T205004Z
LAST-MODIFIED:20230215T205004Z
UID:10000633-1860663600-1860670800@fromtheheartatlanta.org
SUMMARY:Sunday Worship Service
DESCRIPTION:Our Sunday Worship Service begins with our Ministry of Praise promptly at 11:00 a.m. with spirit-filled singing led by our Praise Team. The message is delivered through simple\, scriptural\, Christ-centered Bible teaching. \nWe look forward to seeing you!
URL:https://fromtheheartatlanta.org/event/sunday-worship-service-4/2028-12-17/
LOCATION:Sanctuary\, 1583 Westhaven Dr. SW\, Atlanta\, GA\, 30311
CATEGORIES:Services
ATTACH;FMTTYPE=image/png:https://fromtheheartatlanta.org/wp-content/uploads/2020/04/cal_sundayworship.png
GEO:33.7327954;-84.4392279
X-APPLE-STRUCTURED-LOCATION;VALUE=URI;X-ADDRESS=Sanctuary 1583 Westhaven Dr. SW Atlanta GA 30311;X-APPLE-RADIUS=500;X-TITLE=1583 Westhaven Dr. SW:geo:-84.4392279,33.7327954
END:VEVENT
BEGIN:VEVENT
DTSTART;TZID=America/New_York:20281224T110000
DTEND;TZID=America/New_York:20281224T130000
DTSTAMP:20260420T094443
CREATED:20230215T205004Z
LAST-MODIFIED:20230215T205004Z
UID:10000634-1861268400-1861275600@fromtheheartatlanta.org
SUMMARY:Sunday Worship Service
DESCRIPTION:Our Sunday Worship Service begins with our Ministry of Praise promptly at 11:00 a.m. with spirit-filled singing led by our Praise Team. The message is delivered through simple\, scriptural\, Christ-centered Bible teaching. \nWe look forward to seeing you!
URL:https://fromtheheartatlanta.org/event/sunday-worship-service-4/2028-12-24/
LOCATION:Sanctuary\, 1583 Westhaven Dr. SW\, Atlanta\, GA\, 30311
CATEGORIES:Services
ATTACH;FMTTYPE=image/png:https://fromtheheartatlanta.org/wp-content/uploads/2020/04/cal_sundayworship.png
GEO:33.7327954;-84.4392279
X-APPLE-STRUCTURED-LOCATION;VALUE=URI;X-ADDRESS=Sanctuary 1583 Westhaven Dr. SW Atlanta GA 30311;X-APPLE-RADIUS=500;X-TITLE=1583 Westhaven Dr. SW:geo:-84.4392279,33.7327954
END:VEVENT
BEGIN:VEVENT
DTSTART;TZID=America/New_York:20281231T110000
DTEND;TZID=America/New_York:20281231T130000
DTSTAMP:20260420T094443
CREATED:20230215T205004Z
LAST-MODIFIED:20230215T205004Z
UID:10000635-1861873200-1861880400@fromtheheartatlanta.org
SUMMARY:Sunday Worship Service
DESCRIPTION:Our Sunday Worship Service begins with our Ministry of Praise promptly at 11:00 a.m. with spirit-filled singing led by our Praise Team. The message is delivered through simple\, scriptural\, Christ-centered Bible teaching. \nWe look forward to seeing you!
URL:https://fromtheheartatlanta.org/event/sunday-worship-service-4/2028-12-31/
LOCATION:Sanctuary\, 1583 Westhaven Dr. SW\, Atlanta\, GA\, 30311
CATEGORIES:Services
ATTACH;FMTTYPE=image/png:https://fromtheheartatlanta.org/wp-content/uploads/2020/04/cal_sundayworship.png
GEO:33.7327954;-84.4392279
X-APPLE-STRUCTURED-LOCATION;VALUE=URI;X-ADDRESS=Sanctuary 1583 Westhaven Dr. SW Atlanta GA 30311;X-APPLE-RADIUS=500;X-TITLE=1583 Westhaven Dr. SW:geo:-84.4392279,33.7327954
END:VEVENT
BEGIN:VEVENT
DTSTART;TZID=America/New_York:20290107T110000
DTEND;TZID=America/New_York:20290107T130000
DTSTAMP:20260420T094443
CREATED:20230215T205004Z
LAST-MODIFIED:20230215T205004Z
UID:10000636-1862478000-1862485200@fromtheheartatlanta.org
SUMMARY:Sunday Worship Service
DESCRIPTION:Our Sunday Worship Service begins with our Ministry of Praise promptly at 11:00 a.m. with spirit-filled singing led by our Praise Team. The message is delivered through simple\, scriptural\, Christ-centered Bible teaching. \nWe look forward to seeing you!
URL:https://fromtheheartatlanta.org/event/sunday-worship-service-4/2029-01-07/
LOCATION:Sanctuary\, 1583 Westhaven Dr. SW\, Atlanta\, GA\, 30311
CATEGORIES:Services
ATTACH;FMTTYPE=image/png:https://fromtheheartatlanta.org/wp-content/uploads/2020/04/cal_sundayworship.png
GEO:33.7327954;-84.4392279
X-APPLE-STRUCTURED-LOCATION;VALUE=URI;X-ADDRESS=Sanctuary 1583 Westhaven Dr. SW Atlanta GA 30311;X-APPLE-RADIUS=500;X-TITLE=1583 Westhaven Dr. SW:geo:-84.4392279,33.7327954
END:VEVENT
BEGIN:VEVENT
DTSTART;TZID=America/New_York:20290114T110000
DTEND;TZID=America/New_York:20290114T130000
DTSTAMP:20260420T094443
CREATED:20230215T205004Z
LAST-MODIFIED:20230215T205004Z
UID:10000637-1863082800-1863090000@fromtheheartatlanta.org
SUMMARY:Sunday Worship Service
DESCRIPTION:Our Sunday Worship Service begins with our Ministry of Praise promptly at 11:00 a.m. with spirit-filled singing led by our Praise Team. The message is delivered through simple\, scriptural\, Christ-centered Bible teaching. \nWe look forward to seeing you!
URL:https://fromtheheartatlanta.org/event/sunday-worship-service-4/2029-01-14/
LOCATION:Sanctuary\, 1583 Westhaven Dr. SW\, Atlanta\, GA\, 30311
CATEGORIES:Services
ATTACH;FMTTYPE=image/png:https://fromtheheartatlanta.org/wp-content/uploads/2020/04/cal_sundayworship.png
GEO:33.7327954;-84.4392279
X-APPLE-STRUCTURED-LOCATION;VALUE=URI;X-ADDRESS=Sanctuary 1583 Westhaven Dr. SW Atlanta GA 30311;X-APPLE-RADIUS=500;X-TITLE=1583 Westhaven Dr. SW:geo:-84.4392279,33.7327954
END:VEVENT
BEGIN:VEVENT
DTSTART;TZID=America/New_York:20290121T110000
DTEND;TZID=America/New_York:20290121T130000
DTSTAMP:20260420T094443
CREATED:20230215T205004Z
LAST-MODIFIED:20230215T205004Z
UID:10000638-1863687600-1863694800@fromtheheartatlanta.org
SUMMARY:Sunday Worship Service
DESCRIPTION:Our Sunday Worship Service begins with our Ministry of Praise promptly at 11:00 a.m. with spirit-filled singing led by our Praise Team. The message is delivered through simple\, scriptural\, Christ-centered Bible teaching. \nWe look forward to seeing you!
URL:https://fromtheheartatlanta.org/event/sunday-worship-service-4/2029-01-21/
LOCATION:Sanctuary\, 1583 Westhaven Dr. SW\, Atlanta\, GA\, 30311
CATEGORIES:Services
ATTACH;FMTTYPE=image/png:https://fromtheheartatlanta.org/wp-content/uploads/2020/04/cal_sundayworship.png
GEO:33.7327954;-84.4392279
X-APPLE-STRUCTURED-LOCATION;VALUE=URI;X-ADDRESS=Sanctuary 1583 Westhaven Dr. SW Atlanta GA 30311;X-APPLE-RADIUS=500;X-TITLE=1583 Westhaven Dr. SW:geo:-84.4392279,33.7327954
END:VEVENT
BEGIN:VEVENT
DTSTART;TZID=America/New_York:20290128T110000
DTEND;TZID=America/New_York:20290128T130000
DTSTAMP:20260420T094443
CREATED:20230215T205004Z
LAST-MODIFIED:20230215T205004Z
UID:10000639-1864292400-1864299600@fromtheheartatlanta.org
SUMMARY:Sunday Worship Service
DESCRIPTION:Our Sunday Worship Service begins with our Ministry of Praise promptly at 11:00 a.m. with spirit-filled singing led by our Praise Team. The message is delivered through simple\, scriptural\, Christ-centered Bible teaching. \nWe look forward to seeing you!
URL:https://fromtheheartatlanta.org/event/sunday-worship-service-4/2029-01-28/
LOCATION:Sanctuary\, 1583 Westhaven Dr. SW\, Atlanta\, GA\, 30311
CATEGORIES:Services
ATTACH;FMTTYPE=image/png:https://fromtheheartatlanta.org/wp-content/uploads/2020/04/cal_sundayworship.png
GEO:33.7327954;-84.4392279
X-APPLE-STRUCTURED-LOCATION;VALUE=URI;X-ADDRESS=Sanctuary 1583 Westhaven Dr. SW Atlanta GA 30311;X-APPLE-RADIUS=500;X-TITLE=1583 Westhaven Dr. SW:geo:-84.4392279,33.7327954
END:VEVENT
BEGIN:VEVENT
DTSTART;TZID=America/New_York:20290204T110000
DTEND;TZID=America/New_York:20290204T130000
DTSTAMP:20260420T094443
CREATED:20230215T205004Z
LAST-MODIFIED:20230215T205004Z
UID:10000640-1864897200-1864904400@fromtheheartatlanta.org
SUMMARY:Sunday Worship Service
DESCRIPTION:Our Sunday Worship Service begins with our Ministry of Praise promptly at 11:00 a.m. with spirit-filled singing led by our Praise Team. The message is delivered through simple\, scriptural\, Christ-centered Bible teaching. \nWe look forward to seeing you!
URL:https://fromtheheartatlanta.org/event/sunday-worship-service-4/2029-02-04/
LOCATION:Sanctuary\, 1583 Westhaven Dr. SW\, Atlanta\, GA\, 30311
CATEGORIES:Services
ATTACH;FMTTYPE=image/png:https://fromtheheartatlanta.org/wp-content/uploads/2020/04/cal_sundayworship.png
GEO:33.7327954;-84.4392279
X-APPLE-STRUCTURED-LOCATION;VALUE=URI;X-ADDRESS=Sanctuary 1583 Westhaven Dr. SW Atlanta GA 30311;X-APPLE-RADIUS=500;X-TITLE=1583 Westhaven Dr. SW:geo:-84.4392279,33.7327954
END:VEVENT
BEGIN:VEVENT
DTSTART;TZID=America/New_York:20290211T110000
DTEND;TZID=America/New_York:20290211T130000
DTSTAMP:20260420T094443
CREATED:20230215T205004Z
LAST-MODIFIED:20230215T205004Z
UID:10000641-1865502000-1865509200@fromtheheartatlanta.org
SUMMARY:Sunday Worship Service
DESCRIPTION:Our Sunday Worship Service begins with our Ministry of Praise promptly at 11:00 a.m. with spirit-filled singing led by our Praise Team. The message is delivered through simple\, scriptural\, Christ-centered Bible teaching. \nWe look forward to seeing you!
URL:https://fromtheheartatlanta.org/event/sunday-worship-service-4/2029-02-11/
LOCATION:Sanctuary\, 1583 Westhaven Dr. SW\, Atlanta\, GA\, 30311
CATEGORIES:Services
ATTACH;FMTTYPE=image/png:https://fromtheheartatlanta.org/wp-content/uploads/2020/04/cal_sundayworship.png
GEO:33.7327954;-84.4392279
X-APPLE-STRUCTURED-LOCATION;VALUE=URI;X-ADDRESS=Sanctuary 1583 Westhaven Dr. SW Atlanta GA 30311;X-APPLE-RADIUS=500;X-TITLE=1583 Westhaven Dr. SW:geo:-84.4392279,33.7327954
END:VEVENT
BEGIN:VEVENT
DTSTART;TZID=America/New_York:20290218T110000
DTEND;TZID=America/New_York:20290218T130000
DTSTAMP:20260420T094443
CREATED:20230215T205004Z
LAST-MODIFIED:20230215T205004Z
UID:10000642-1866106800-1866114000@fromtheheartatlanta.org
SUMMARY:Sunday Worship Service
DESCRIPTION:Our Sunday Worship Service begins with our Ministry of Praise promptly at 11:00 a.m. with spirit-filled singing led by our Praise Team. The message is delivered through simple\, scriptural\, Christ-centered Bible teaching. \nWe look forward to seeing you!
URL:https://fromtheheartatlanta.org/event/sunday-worship-service-4/2029-02-18/
LOCATION:Sanctuary\, 1583 Westhaven Dr. SW\, Atlanta\, GA\, 30311
CATEGORIES:Services
ATTACH;FMTTYPE=image/png:https://fromtheheartatlanta.org/wp-content/uploads/2020/04/cal_sundayworship.png
GEO:33.7327954;-84.4392279
X-APPLE-STRUCTURED-LOCATION;VALUE=URI;X-ADDRESS=Sanctuary 1583 Westhaven Dr. SW Atlanta GA 30311;X-APPLE-RADIUS=500;X-TITLE=1583 Westhaven Dr. SW:geo:-84.4392279,33.7327954
END:VEVENT
BEGIN:VEVENT
DTSTART;TZID=America/New_York:20290225T110000
DTEND;TZID=America/New_York:20290225T130000
DTSTAMP:20260420T094443
CREATED:20230215T205004Z
LAST-MODIFIED:20230215T205004Z
UID:10000643-1866711600-1866718800@fromtheheartatlanta.org
SUMMARY:Sunday Worship Service
DESCRIPTION:Our Sunday Worship Service begins with our Ministry of Praise promptly at 11:00 a.m. with spirit-filled singing led by our Praise Team. The message is delivered through simple\, scriptural\, Christ-centered Bible teaching. \nWe look forward to seeing you!
URL:https://fromtheheartatlanta.org/event/sunday-worship-service-4/2029-02-25/
LOCATION:Sanctuary\, 1583 Westhaven Dr. SW\, Atlanta\, GA\, 30311
CATEGORIES:Services
ATTACH;FMTTYPE=image/png:https://fromtheheartatlanta.org/wp-content/uploads/2020/04/cal_sundayworship.png
GEO:33.7327954;-84.4392279
X-APPLE-STRUCTURED-LOCATION;VALUE=URI;X-ADDRESS=Sanctuary 1583 Westhaven Dr. SW Atlanta GA 30311;X-APPLE-RADIUS=500;X-TITLE=1583 Westhaven Dr. SW:geo:-84.4392279,33.7327954
END:VEVENT
BEGIN:VEVENT
DTSTART;TZID=America/New_York:20290304T110000
DTEND;TZID=America/New_York:20290304T130000
DTSTAMP:20260420T094443
CREATED:20230215T205004Z
LAST-MODIFIED:20230215T205004Z
UID:10000644-1867316400-1867323600@fromtheheartatlanta.org
SUMMARY:Sunday Worship Service
DESCRIPTION:Our Sunday Worship Service begins with our Ministry of Praise promptly at 11:00 a.m. with spirit-filled singing led by our Praise Team. The message is delivered through simple\, scriptural\, Christ-centered Bible teaching. \nWe look forward to seeing you!
URL:https://fromtheheartatlanta.org/event/sunday-worship-service-4/2029-03-04/
LOCATION:Sanctuary\, 1583 Westhaven Dr. SW\, Atlanta\, GA\, 30311
CATEGORIES:Services
ATTACH;FMTTYPE=image/png:https://fromtheheartatlanta.org/wp-content/uploads/2020/04/cal_sundayworship.png
GEO:33.7327954;-84.4392279
X-APPLE-STRUCTURED-LOCATION;VALUE=URI;X-ADDRESS=Sanctuary 1583 Westhaven Dr. SW Atlanta GA 30311;X-APPLE-RADIUS=500;X-TITLE=1583 Westhaven Dr. SW:geo:-84.4392279,33.7327954
END:VEVENT
END:VCALENDAR