BEGIN:VCALENDAR
VERSION:2.0
PRODID:-//From the Heart Church Ministries of Atlanta - ECPv6.15.20//NONSGML v1.0//EN
CALSCALE:GREGORIAN
METHOD:PUBLISH
X-ORIGINAL-URL:https://fromtheheartatlanta.org
X-WR-CALDESC:Events for From the Heart Church Ministries of Atlanta
REFRESH-INTERVAL;VALUE=DURATION:PT1H
X-Robots-Tag:noindex
X-PUBLISHED-TTL:PT1H
BEGIN:VTIMEZONE
TZID:America/New_York
BEGIN:DAYLIGHT
TZOFFSETFROM:-0500
TZOFFSETTO:-0400
TZNAME:EDT
DTSTART:20250309T070000
END:DAYLIGHT
BEGIN:STANDARD
TZOFFSETFROM:-0400
TZOFFSETTO:-0500
TZNAME:EST
DTSTART:20251102T060000
END:STANDARD
BEGIN:DAYLIGHT
TZOFFSETFROM:-0500
TZOFFSETTO:-0400
TZNAME:EDT
DTSTART:20260308T070000
END:DAYLIGHT
BEGIN:STANDARD
TZOFFSETFROM:-0400
TZOFFSETTO:-0500
TZNAME:EST
DTSTART:20261101T060000
END:STANDARD
BEGIN:DAYLIGHT
TZOFFSETFROM:-0500
TZOFFSETTO:-0400
TZNAME:EDT
DTSTART:20270314T070000
END:DAYLIGHT
BEGIN:STANDARD
TZOFFSETFROM:-0400
TZOFFSETTO:-0500
TZNAME:EST
DTSTART:20271107T060000
END:STANDARD
END:VTIMEZONE
BEGIN:VEVENT
DTSTART;TZID=America/New_York:20260607T110000
DTEND;TZID=America/New_York:20260607T130000
DTSTAMP:20260419T142759
CREATED:20230215T205004Z
LAST-MODIFIED:20230215T205004Z
UID:10000175-1780830000-1780837200@fromtheheartatlanta.org
SUMMARY:Sunday Worship Service
DESCRIPTION:Our Sunday Worship Service begins with our Ministry of Praise promptly at 11:00 a.m. with spirit-filled singing led by our Praise Team. The message is delivered through simple\, scriptural\, Christ-centered Bible teaching. \nWe look forward to seeing you!
URL:https://fromtheheartatlanta.org/event/sunday-worship-service-4/2026-06-07/
LOCATION:Sanctuary\, 1583 Westhaven Dr. SW\, Atlanta\, GA\, 30311
CATEGORIES:Services
ATTACH;FMTTYPE=image/png:https://fromtheheartatlanta.org/wp-content/uploads/2020/04/cal_sundayworship.png
GEO:33.7327954;-84.4392279
X-APPLE-STRUCTURED-LOCATION;VALUE=URI;X-ADDRESS=Sanctuary 1583 Westhaven Dr. SW Atlanta GA 30311;X-APPLE-RADIUS=500;X-TITLE=1583 Westhaven Dr. SW:geo:-84.4392279,33.7327954
END:VEVENT
BEGIN:VEVENT
DTSTART;TZID=America/New_York:20260614T110000
DTEND;TZID=America/New_York:20260614T130000
DTSTAMP:20260419T142759
CREATED:20230215T205004Z
LAST-MODIFIED:20230215T205004Z
UID:10000176-1781434800-1781442000@fromtheheartatlanta.org
SUMMARY:Sunday Worship Service
DESCRIPTION:Our Sunday Worship Service begins with our Ministry of Praise promptly at 11:00 a.m. with spirit-filled singing led by our Praise Team. The message is delivered through simple\, scriptural\, Christ-centered Bible teaching. \nWe look forward to seeing you!
URL:https://fromtheheartatlanta.org/event/sunday-worship-service-4/2026-06-14/
LOCATION:Sanctuary\, 1583 Westhaven Dr. SW\, Atlanta\, GA\, 30311
CATEGORIES:Services
ATTACH;FMTTYPE=image/png:https://fromtheheartatlanta.org/wp-content/uploads/2020/04/cal_sundayworship.png
GEO:33.7327954;-84.4392279
X-APPLE-STRUCTURED-LOCATION;VALUE=URI;X-ADDRESS=Sanctuary 1583 Westhaven Dr. SW Atlanta GA 30311;X-APPLE-RADIUS=500;X-TITLE=1583 Westhaven Dr. SW:geo:-84.4392279,33.7327954
END:VEVENT
BEGIN:VEVENT
DTSTART;TZID=America/New_York:20260621T110000
DTEND;TZID=America/New_York:20260621T130000
DTSTAMP:20260419T142759
CREATED:20230215T205004Z
LAST-MODIFIED:20230215T205004Z
UID:10000177-1782039600-1782046800@fromtheheartatlanta.org
SUMMARY:Sunday Worship Service
DESCRIPTION:Our Sunday Worship Service begins with our Ministry of Praise promptly at 11:00 a.m. with spirit-filled singing led by our Praise Team. The message is delivered through simple\, scriptural\, Christ-centered Bible teaching. \nWe look forward to seeing you!
URL:https://fromtheheartatlanta.org/event/sunday-worship-service-4/2026-06-21/
LOCATION:Sanctuary\, 1583 Westhaven Dr. SW\, Atlanta\, GA\, 30311
CATEGORIES:Services
ATTACH;FMTTYPE=image/png:https://fromtheheartatlanta.org/wp-content/uploads/2020/04/cal_sundayworship.png
GEO:33.7327954;-84.4392279
X-APPLE-STRUCTURED-LOCATION;VALUE=URI;X-ADDRESS=Sanctuary 1583 Westhaven Dr. SW Atlanta GA 30311;X-APPLE-RADIUS=500;X-TITLE=1583 Westhaven Dr. SW:geo:-84.4392279,33.7327954
END:VEVENT
BEGIN:VEVENT
DTSTART;TZID=America/New_York:20260628T110000
DTEND;TZID=America/New_York:20260628T130000
DTSTAMP:20260419T142759
CREATED:20230215T205004Z
LAST-MODIFIED:20230215T205004Z
UID:10000178-1782644400-1782651600@fromtheheartatlanta.org
SUMMARY:Sunday Worship Service
DESCRIPTION:Our Sunday Worship Service begins with our Ministry of Praise promptly at 11:00 a.m. with spirit-filled singing led by our Praise Team. The message is delivered through simple\, scriptural\, Christ-centered Bible teaching. \nWe look forward to seeing you!
URL:https://fromtheheartatlanta.org/event/sunday-worship-service-4/2026-06-28/
LOCATION:Sanctuary\, 1583 Westhaven Dr. SW\, Atlanta\, GA\, 30311
CATEGORIES:Services
ATTACH;FMTTYPE=image/png:https://fromtheheartatlanta.org/wp-content/uploads/2020/04/cal_sundayworship.png
GEO:33.7327954;-84.4392279
X-APPLE-STRUCTURED-LOCATION;VALUE=URI;X-ADDRESS=Sanctuary 1583 Westhaven Dr. SW Atlanta GA 30311;X-APPLE-RADIUS=500;X-TITLE=1583 Westhaven Dr. SW:geo:-84.4392279,33.7327954
END:VEVENT
END:VCALENDAR