BEGIN:VCALENDAR
VERSION:2.0
PRODID:-//From the Heart Church Ministries of Atlanta - ECPv6.15.20//NONSGML v1.0//EN
CALSCALE:GREGORIAN
METHOD:PUBLISH
X-ORIGINAL-URL:https://fromtheheartatlanta.org
X-WR-CALDESC:Events for From the Heart Church Ministries of Atlanta
REFRESH-INTERVAL;VALUE=DURATION:PT1H
X-Robots-Tag:noindex
X-PUBLISHED-TTL:PT1H
BEGIN:VTIMEZONE
TZID:America/New_York
BEGIN:DAYLIGHT
TZOFFSETFROM:-0500
TZOFFSETTO:-0400
TZNAME:EDT
DTSTART:20250309T070000
END:DAYLIGHT
BEGIN:STANDARD
TZOFFSETFROM:-0400
TZOFFSETTO:-0500
TZNAME:EST
DTSTART:20251102T060000
END:STANDARD
BEGIN:DAYLIGHT
TZOFFSETFROM:-0500
TZOFFSETTO:-0400
TZNAME:EDT
DTSTART:20260308T070000
END:DAYLIGHT
BEGIN:STANDARD
TZOFFSETFROM:-0400
TZOFFSETTO:-0500
TZNAME:EST
DTSTART:20261101T060000
END:STANDARD
BEGIN:DAYLIGHT
TZOFFSETFROM:-0500
TZOFFSETTO:-0400
TZNAME:EDT
DTSTART:20270314T070000
END:DAYLIGHT
BEGIN:STANDARD
TZOFFSETFROM:-0400
TZOFFSETTO:-0500
TZNAME:EST
DTSTART:20271107T060000
END:STANDARD
END:VTIMEZONE
BEGIN:VEVENT
DTSTART;TZID=America/New_York:20260802T110000
DTEND;TZID=America/New_York:20260802T130000
DTSTAMP:20260419T173904
CREATED:20230215T205004Z
LAST-MODIFIED:20230215T205004Z
UID:10000183-1785668400-1785675600@fromtheheartatlanta.org
SUMMARY:Sunday Worship Service
DESCRIPTION:Our Sunday Worship Service begins with our Ministry of Praise promptly at 11:00 a.m. with spirit-filled singing led by our Praise Team. The message is delivered through simple\, scriptural\, Christ-centered Bible teaching. \nWe look forward to seeing you!
URL:https://fromtheheartatlanta.org/event/sunday-worship-service-4/2026-08-02/
LOCATION:Sanctuary\, 1583 Westhaven Dr. SW\, Atlanta\, GA\, 30311
CATEGORIES:Services
ATTACH;FMTTYPE=image/png:https://fromtheheartatlanta.org/wp-content/uploads/2020/04/cal_sundayworship.png
GEO:33.7327954;-84.4392279
X-APPLE-STRUCTURED-LOCATION;VALUE=URI;X-ADDRESS=Sanctuary 1583 Westhaven Dr. SW Atlanta GA 30311;X-APPLE-RADIUS=500;X-TITLE=1583 Westhaven Dr. SW:geo:-84.4392279,33.7327954
END:VEVENT
BEGIN:VEVENT
DTSTART;TZID=America/New_York:20260809T110000
DTEND;TZID=America/New_York:20260809T130000
DTSTAMP:20260419T173904
CREATED:20230215T205004Z
LAST-MODIFIED:20230215T205004Z
UID:10000184-1786273200-1786280400@fromtheheartatlanta.org
SUMMARY:Sunday Worship Service
DESCRIPTION:Our Sunday Worship Service begins with our Ministry of Praise promptly at 11:00 a.m. with spirit-filled singing led by our Praise Team. The message is delivered through simple\, scriptural\, Christ-centered Bible teaching. \nWe look forward to seeing you!
URL:https://fromtheheartatlanta.org/event/sunday-worship-service-4/2026-08-09/
LOCATION:Sanctuary\, 1583 Westhaven Dr. SW\, Atlanta\, GA\, 30311
CATEGORIES:Services
ATTACH;FMTTYPE=image/png:https://fromtheheartatlanta.org/wp-content/uploads/2020/04/cal_sundayworship.png
GEO:33.7327954;-84.4392279
X-APPLE-STRUCTURED-LOCATION;VALUE=URI;X-ADDRESS=Sanctuary 1583 Westhaven Dr. SW Atlanta GA 30311;X-APPLE-RADIUS=500;X-TITLE=1583 Westhaven Dr. SW:geo:-84.4392279,33.7327954
END:VEVENT
BEGIN:VEVENT
DTSTART;TZID=America/New_York:20260816T110000
DTEND;TZID=America/New_York:20260816T130000
DTSTAMP:20260419T173904
CREATED:20230215T205004Z
LAST-MODIFIED:20230215T205004Z
UID:10000185-1786878000-1786885200@fromtheheartatlanta.org
SUMMARY:Sunday Worship Service
DESCRIPTION:Our Sunday Worship Service begins with our Ministry of Praise promptly at 11:00 a.m. with spirit-filled singing led by our Praise Team. The message is delivered through simple\, scriptural\, Christ-centered Bible teaching. \nWe look forward to seeing you!
URL:https://fromtheheartatlanta.org/event/sunday-worship-service-4/2026-08-16/
LOCATION:Sanctuary\, 1583 Westhaven Dr. SW\, Atlanta\, GA\, 30311
CATEGORIES:Services
ATTACH;FMTTYPE=image/png:https://fromtheheartatlanta.org/wp-content/uploads/2020/04/cal_sundayworship.png
GEO:33.7327954;-84.4392279
X-APPLE-STRUCTURED-LOCATION;VALUE=URI;X-ADDRESS=Sanctuary 1583 Westhaven Dr. SW Atlanta GA 30311;X-APPLE-RADIUS=500;X-TITLE=1583 Westhaven Dr. SW:geo:-84.4392279,33.7327954
END:VEVENT
BEGIN:VEVENT
DTSTART;TZID=America/New_York:20260823T110000
DTEND;TZID=America/New_York:20260823T130000
DTSTAMP:20260419T173904
CREATED:20230215T205004Z
LAST-MODIFIED:20230215T205004Z
UID:10000186-1787482800-1787490000@fromtheheartatlanta.org
SUMMARY:Sunday Worship Service
DESCRIPTION:Our Sunday Worship Service begins with our Ministry of Praise promptly at 11:00 a.m. with spirit-filled singing led by our Praise Team. The message is delivered through simple\, scriptural\, Christ-centered Bible teaching. \nWe look forward to seeing you!
URL:https://fromtheheartatlanta.org/event/sunday-worship-service-4/2026-08-23/
LOCATION:Sanctuary\, 1583 Westhaven Dr. SW\, Atlanta\, GA\, 30311
CATEGORIES:Services
ATTACH;FMTTYPE=image/png:https://fromtheheartatlanta.org/wp-content/uploads/2020/04/cal_sundayworship.png
GEO:33.7327954;-84.4392279
X-APPLE-STRUCTURED-LOCATION;VALUE=URI;X-ADDRESS=Sanctuary 1583 Westhaven Dr. SW Atlanta GA 30311;X-APPLE-RADIUS=500;X-TITLE=1583 Westhaven Dr. SW:geo:-84.4392279,33.7327954
END:VEVENT
BEGIN:VEVENT
DTSTART;TZID=America/New_York:20260830T110000
DTEND;TZID=America/New_York:20260830T130000
DTSTAMP:20260419T173904
CREATED:20230215T205004Z
LAST-MODIFIED:20230215T205004Z
UID:10000187-1788087600-1788094800@fromtheheartatlanta.org
SUMMARY:Sunday Worship Service
DESCRIPTION:Our Sunday Worship Service begins with our Ministry of Praise promptly at 11:00 a.m. with spirit-filled singing led by our Praise Team. The message is delivered through simple\, scriptural\, Christ-centered Bible teaching. \nWe look forward to seeing you!
URL:https://fromtheheartatlanta.org/event/sunday-worship-service-4/2026-08-30/
LOCATION:Sanctuary\, 1583 Westhaven Dr. SW\, Atlanta\, GA\, 30311
CATEGORIES:Services
ATTACH;FMTTYPE=image/png:https://fromtheheartatlanta.org/wp-content/uploads/2020/04/cal_sundayworship.png
GEO:33.7327954;-84.4392279
X-APPLE-STRUCTURED-LOCATION;VALUE=URI;X-ADDRESS=Sanctuary 1583 Westhaven Dr. SW Atlanta GA 30311;X-APPLE-RADIUS=500;X-TITLE=1583 Westhaven Dr. SW:geo:-84.4392279,33.7327954
END:VEVENT
END:VCALENDAR