BEGIN:VCALENDAR
VERSION:2.0
PRODID:-//From the Heart Church Ministries of Atlanta - ECPv6.15.20//NONSGML v1.0//EN
CALSCALE:GREGORIAN
METHOD:PUBLISH
X-ORIGINAL-URL:https://fromtheheartatlanta.org
X-WR-CALDESC:Events for From the Heart Church Ministries of Atlanta
REFRESH-INTERVAL;VALUE=DURATION:PT1H
X-Robots-Tag:noindex
X-PUBLISHED-TTL:PT1H
BEGIN:VTIMEZONE
TZID:America/New_York
BEGIN:DAYLIGHT
TZOFFSETFROM:-0500
TZOFFSETTO:-0400
TZNAME:EDT
DTSTART:20250309T070000
END:DAYLIGHT
BEGIN:STANDARD
TZOFFSETFROM:-0400
TZOFFSETTO:-0500
TZNAME:EST
DTSTART:20251102T060000
END:STANDARD
BEGIN:DAYLIGHT
TZOFFSETFROM:-0500
TZOFFSETTO:-0400
TZNAME:EDT
DTSTART:20260308T070000
END:DAYLIGHT
BEGIN:STANDARD
TZOFFSETFROM:-0400
TZOFFSETTO:-0500
TZNAME:EST
DTSTART:20261101T060000
END:STANDARD
BEGIN:DAYLIGHT
TZOFFSETFROM:-0500
TZOFFSETTO:-0400
TZNAME:EDT
DTSTART:20270314T070000
END:DAYLIGHT
BEGIN:STANDARD
TZOFFSETFROM:-0400
TZOFFSETTO:-0500
TZNAME:EST
DTSTART:20271107T060000
END:STANDARD
END:VTIMEZONE
BEGIN:VEVENT
DTSTART;TZID=America/New_York:20261206T110000
DTEND;TZID=America/New_York:20261206T130000
DTSTAMP:20260420T001048
CREATED:20230215T205004Z
LAST-MODIFIED:20230215T205004Z
UID:10000201-1796554800-1796562000@fromtheheartatlanta.org
SUMMARY:Sunday Worship Service
DESCRIPTION:Our Sunday Worship Service begins with our Ministry of Praise promptly at 11:00 a.m. with spirit-filled singing led by our Praise Team. The message is delivered through simple\, scriptural\, Christ-centered Bible teaching. \nWe look forward to seeing you!
URL:https://fromtheheartatlanta.org/event/sunday-worship-service-4/2026-12-06/
LOCATION:Sanctuary\, 1583 Westhaven Dr. SW\, Atlanta\, GA\, 30311
CATEGORIES:Services
ATTACH;FMTTYPE=image/png:https://fromtheheartatlanta.org/wp-content/uploads/2020/04/cal_sundayworship.png
GEO:33.7327954;-84.4392279
X-APPLE-STRUCTURED-LOCATION;VALUE=URI;X-ADDRESS=Sanctuary 1583 Westhaven Dr. SW Atlanta GA 30311;X-APPLE-RADIUS=500;X-TITLE=1583 Westhaven Dr. SW:geo:-84.4392279,33.7327954
END:VEVENT
BEGIN:VEVENT
DTSTART;TZID=America/New_York:20261213T110000
DTEND;TZID=America/New_York:20261213T130000
DTSTAMP:20260420T001048
CREATED:20230215T205004Z
LAST-MODIFIED:20230215T205004Z
UID:10000202-1797159600-1797166800@fromtheheartatlanta.org
SUMMARY:Sunday Worship Service
DESCRIPTION:Our Sunday Worship Service begins with our Ministry of Praise promptly at 11:00 a.m. with spirit-filled singing led by our Praise Team. The message is delivered through simple\, scriptural\, Christ-centered Bible teaching. \nWe look forward to seeing you!
URL:https://fromtheheartatlanta.org/event/sunday-worship-service-4/2026-12-13/
LOCATION:Sanctuary\, 1583 Westhaven Dr. SW\, Atlanta\, GA\, 30311
CATEGORIES:Services
ATTACH;FMTTYPE=image/png:https://fromtheheartatlanta.org/wp-content/uploads/2020/04/cal_sundayworship.png
GEO:33.7327954;-84.4392279
X-APPLE-STRUCTURED-LOCATION;VALUE=URI;X-ADDRESS=Sanctuary 1583 Westhaven Dr. SW Atlanta GA 30311;X-APPLE-RADIUS=500;X-TITLE=1583 Westhaven Dr. SW:geo:-84.4392279,33.7327954
END:VEVENT
BEGIN:VEVENT
DTSTART;TZID=America/New_York:20261220T110000
DTEND;TZID=America/New_York:20261220T130000
DTSTAMP:20260420T001048
CREATED:20230215T205004Z
LAST-MODIFIED:20230215T205004Z
UID:10000203-1797764400-1797771600@fromtheheartatlanta.org
SUMMARY:Sunday Worship Service
DESCRIPTION:Our Sunday Worship Service begins with our Ministry of Praise promptly at 11:00 a.m. with spirit-filled singing led by our Praise Team. The message is delivered through simple\, scriptural\, Christ-centered Bible teaching. \nWe look forward to seeing you!
URL:https://fromtheheartatlanta.org/event/sunday-worship-service-4/2026-12-20/
LOCATION:Sanctuary\, 1583 Westhaven Dr. SW\, Atlanta\, GA\, 30311
CATEGORIES:Services
ATTACH;FMTTYPE=image/png:https://fromtheheartatlanta.org/wp-content/uploads/2020/04/cal_sundayworship.png
GEO:33.7327954;-84.4392279
X-APPLE-STRUCTURED-LOCATION;VALUE=URI;X-ADDRESS=Sanctuary 1583 Westhaven Dr. SW Atlanta GA 30311;X-APPLE-RADIUS=500;X-TITLE=1583 Westhaven Dr. SW:geo:-84.4392279,33.7327954
END:VEVENT
BEGIN:VEVENT
DTSTART;TZID=America/New_York:20261227T110000
DTEND;TZID=America/New_York:20261227T130000
DTSTAMP:20260420T001048
CREATED:20230215T205004Z
LAST-MODIFIED:20230215T205004Z
UID:10000204-1798369200-1798376400@fromtheheartatlanta.org
SUMMARY:Sunday Worship Service
DESCRIPTION:Our Sunday Worship Service begins with our Ministry of Praise promptly at 11:00 a.m. with spirit-filled singing led by our Praise Team. The message is delivered through simple\, scriptural\, Christ-centered Bible teaching. \nWe look forward to seeing you!
URL:https://fromtheheartatlanta.org/event/sunday-worship-service-4/2026-12-27/
LOCATION:Sanctuary\, 1583 Westhaven Dr. SW\, Atlanta\, GA\, 30311
CATEGORIES:Services
ATTACH;FMTTYPE=image/png:https://fromtheheartatlanta.org/wp-content/uploads/2020/04/cal_sundayworship.png
GEO:33.7327954;-84.4392279
X-APPLE-STRUCTURED-LOCATION;VALUE=URI;X-ADDRESS=Sanctuary 1583 Westhaven Dr. SW Atlanta GA 30311;X-APPLE-RADIUS=500;X-TITLE=1583 Westhaven Dr. SW:geo:-84.4392279,33.7327954
END:VEVENT
END:VCALENDAR