BEGIN:VCALENDAR
VERSION:2.0
PRODID:-//From the Heart Church Ministries of Atlanta - ECPv6.15.20//NONSGML v1.0//EN
CALSCALE:GREGORIAN
METHOD:PUBLISH
X-WR-CALNAME:From the Heart Church Ministries of Atlanta
X-ORIGINAL-URL:https://fromtheheartatlanta.org
X-WR-CALDESC:Events for From the Heart Church Ministries of Atlanta
REFRESH-INTERVAL;VALUE=DURATION:PT1H
X-Robots-Tag:noindex
X-PUBLISHED-TTL:PT1H
BEGIN:VTIMEZONE
TZID:America/New_York
BEGIN:DAYLIGHT
TZOFFSETFROM:-0500
TZOFFSETTO:-0400
TZNAME:EDT
DTSTART:20270314T070000
END:DAYLIGHT
BEGIN:STANDARD
TZOFFSETFROM:-0400
TZOFFSETTO:-0500
TZNAME:EST
DTSTART:20271107T060000
END:STANDARD
BEGIN:DAYLIGHT
TZOFFSETFROM:-0500
TZOFFSETTO:-0400
TZNAME:EDT
DTSTART:20280312T070000
END:DAYLIGHT
BEGIN:STANDARD
TZOFFSETFROM:-0400
TZOFFSETTO:-0500
TZNAME:EST
DTSTART:20281105T060000
END:STANDARD
BEGIN:DAYLIGHT
TZOFFSETFROM:-0500
TZOFFSETTO:-0400
TZNAME:EDT
DTSTART:20290311T070000
END:DAYLIGHT
BEGIN:STANDARD
TZOFFSETFROM:-0400
TZOFFSETTO:-0500
TZNAME:EST
DTSTART:20291104T060000
END:STANDARD
END:VTIMEZONE
BEGIN:VEVENT
DTSTART;TZID=America/New_York:20280702T110000
DTEND;TZID=America/New_York:20280702T130000
DTSTAMP:20260421T061610
CREATED:20230215T205004Z
LAST-MODIFIED:20230215T205004Z
UID:10000441-1846148400-1846155600@fromtheheartatlanta.org
SUMMARY:Sunday Worship Service
DESCRIPTION:Our Sunday Worship Service begins with our Ministry of Praise promptly at 11:00 a.m. with spirit-filled singing led by our Praise Team. The message is delivered through simple\, scriptural\, Christ-centered Bible teaching. \nWe look forward to seeing you!
URL:https://fromtheheartatlanta.org/event/sunday-worship-service-4/2028-07-02/
LOCATION:Sanctuary\, 1583 Westhaven Dr. SW\, Atlanta\, GA\, 30311
CATEGORIES:Services
ATTACH;FMTTYPE=image/png:https://fromtheheartatlanta.org/wp-content/uploads/2020/04/cal_sundayworship.png
GEO:33.7327954;-84.4392279
X-APPLE-STRUCTURED-LOCATION;VALUE=URI;X-ADDRESS=Sanctuary 1583 Westhaven Dr. SW Atlanta GA 30311;X-APPLE-RADIUS=500;X-TITLE=1583 Westhaven Dr. SW:geo:-84.4392279,33.7327954
END:VEVENT
BEGIN:VEVENT
DTSTART;TZID=America/New_York:20280709T110000
DTEND;TZID=America/New_York:20280709T130000
DTSTAMP:20260421T061610
CREATED:20230215T205004Z
LAST-MODIFIED:20230215T205004Z
UID:10000442-1846753200-1846760400@fromtheheartatlanta.org
SUMMARY:Sunday Worship Service
DESCRIPTION:Our Sunday Worship Service begins with our Ministry of Praise promptly at 11:00 a.m. with spirit-filled singing led by our Praise Team. The message is delivered through simple\, scriptural\, Christ-centered Bible teaching. \nWe look forward to seeing you!
URL:https://fromtheheartatlanta.org/event/sunday-worship-service-4/2028-07-09/
LOCATION:Sanctuary\, 1583 Westhaven Dr. SW\, Atlanta\, GA\, 30311
CATEGORIES:Services
ATTACH;FMTTYPE=image/png:https://fromtheheartatlanta.org/wp-content/uploads/2020/04/cal_sundayworship.png
GEO:33.7327954;-84.4392279
X-APPLE-STRUCTURED-LOCATION;VALUE=URI;X-ADDRESS=Sanctuary 1583 Westhaven Dr. SW Atlanta GA 30311;X-APPLE-RADIUS=500;X-TITLE=1583 Westhaven Dr. SW:geo:-84.4392279,33.7327954
END:VEVENT
BEGIN:VEVENT
DTSTART;TZID=America/New_York:20280716T110000
DTEND;TZID=America/New_York:20280716T130000
DTSTAMP:20260421T061610
CREATED:20230215T205004Z
LAST-MODIFIED:20230215T205004Z
UID:10000443-1847358000-1847365200@fromtheheartatlanta.org
SUMMARY:Sunday Worship Service
DESCRIPTION:Our Sunday Worship Service begins with our Ministry of Praise promptly at 11:00 a.m. with spirit-filled singing led by our Praise Team. The message is delivered through simple\, scriptural\, Christ-centered Bible teaching. \nWe look forward to seeing you!
URL:https://fromtheheartatlanta.org/event/sunday-worship-service-4/2028-07-16/
LOCATION:Sanctuary\, 1583 Westhaven Dr. SW\, Atlanta\, GA\, 30311
CATEGORIES:Services
ATTACH;FMTTYPE=image/png:https://fromtheheartatlanta.org/wp-content/uploads/2020/04/cal_sundayworship.png
GEO:33.7327954;-84.4392279
X-APPLE-STRUCTURED-LOCATION;VALUE=URI;X-ADDRESS=Sanctuary 1583 Westhaven Dr. SW Atlanta GA 30311;X-APPLE-RADIUS=500;X-TITLE=1583 Westhaven Dr. SW:geo:-84.4392279,33.7327954
END:VEVENT
BEGIN:VEVENT
DTSTART;TZID=America/New_York:20280723T110000
DTEND;TZID=America/New_York:20280723T130000
DTSTAMP:20260421T061610
CREATED:20230215T205004Z
LAST-MODIFIED:20230215T205004Z
UID:10000444-1847962800-1847970000@fromtheheartatlanta.org
SUMMARY:Sunday Worship Service
DESCRIPTION:Our Sunday Worship Service begins with our Ministry of Praise promptly at 11:00 a.m. with spirit-filled singing led by our Praise Team. The message is delivered through simple\, scriptural\, Christ-centered Bible teaching. \nWe look forward to seeing you!
URL:https://fromtheheartatlanta.org/event/sunday-worship-service-4/2028-07-23/
LOCATION:Sanctuary\, 1583 Westhaven Dr. SW\, Atlanta\, GA\, 30311
CATEGORIES:Services
ATTACH;FMTTYPE=image/png:https://fromtheheartatlanta.org/wp-content/uploads/2020/04/cal_sundayworship.png
GEO:33.7327954;-84.4392279
X-APPLE-STRUCTURED-LOCATION;VALUE=URI;X-ADDRESS=Sanctuary 1583 Westhaven Dr. SW Atlanta GA 30311;X-APPLE-RADIUS=500;X-TITLE=1583 Westhaven Dr. SW:geo:-84.4392279,33.7327954
END:VEVENT
BEGIN:VEVENT
DTSTART;TZID=America/New_York:20280730T110000
DTEND;TZID=America/New_York:20280730T130000
DTSTAMP:20260421T061610
CREATED:20230215T205004Z
LAST-MODIFIED:20230215T205004Z
UID:10000445-1848567600-1848574800@fromtheheartatlanta.org
SUMMARY:Sunday Worship Service
DESCRIPTION:Our Sunday Worship Service begins with our Ministry of Praise promptly at 11:00 a.m. with spirit-filled singing led by our Praise Team. The message is delivered through simple\, scriptural\, Christ-centered Bible teaching. \nWe look forward to seeing you!
URL:https://fromtheheartatlanta.org/event/sunday-worship-service-4/2028-07-30/
LOCATION:Sanctuary\, 1583 Westhaven Dr. SW\, Atlanta\, GA\, 30311
CATEGORIES:Services
ATTACH;FMTTYPE=image/png:https://fromtheheartatlanta.org/wp-content/uploads/2020/04/cal_sundayworship.png
GEO:33.7327954;-84.4392279
X-APPLE-STRUCTURED-LOCATION;VALUE=URI;X-ADDRESS=Sanctuary 1583 Westhaven Dr. SW Atlanta GA 30311;X-APPLE-RADIUS=500;X-TITLE=1583 Westhaven Dr. SW:geo:-84.4392279,33.7327954
END:VEVENT
END:VCALENDAR