BEGIN:VCALENDAR
VERSION:2.0
PRODID:-//From the Heart Church Ministries of Atlanta - ECPv6.15.20//NONSGML v1.0//EN
CALSCALE:GREGORIAN
METHOD:PUBLISH
X-ORIGINAL-URL:https://fromtheheartatlanta.org
X-WR-CALDESC:Events for From the Heart Church Ministries of Atlanta
REFRESH-INTERVAL;VALUE=DURATION:PT1H
X-Robots-Tag:noindex
X-PUBLISHED-TTL:PT1H
BEGIN:VTIMEZONE
TZID:America/New_York
BEGIN:DAYLIGHT
TZOFFSETFROM:-0500
TZOFFSETTO:-0400
TZNAME:EDT
DTSTART:20230312T070000
END:DAYLIGHT
BEGIN:STANDARD
TZOFFSETFROM:-0400
TZOFFSETTO:-0500
TZNAME:EST
DTSTART:20231105T060000
END:STANDARD
BEGIN:DAYLIGHT
TZOFFSETFROM:-0500
TZOFFSETTO:-0400
TZNAME:EDT
DTSTART:20240310T070000
END:DAYLIGHT
BEGIN:STANDARD
TZOFFSETFROM:-0400
TZOFFSETTO:-0500
TZNAME:EST
DTSTART:20241103T060000
END:STANDARD
BEGIN:DAYLIGHT
TZOFFSETFROM:-0500
TZOFFSETTO:-0400
TZNAME:EDT
DTSTART:20250309T070000
END:DAYLIGHT
BEGIN:STANDARD
TZOFFSETFROM:-0400
TZOFFSETTO:-0500
TZNAME:EST
DTSTART:20251102T060000
END:STANDARD
END:VTIMEZONE
BEGIN:VEVENT
DTSTART;TZID=America/New_York:20240420T130000
DTEND;TZID=America/New_York:20240420T160000
DTSTAMP:20260419T175857
CREATED:20240410T234629Z
LAST-MODIFIED:20240410T234629Z
UID:10000648-1713618000-1713628800@fromtheheartatlanta.org
SUMMARY:Community Fellowship
DESCRIPTION:Hosted by Membership Care Ministry and Helps Ministry. Community fellowships are designed to help strengthen the church. Invite your neighbors\, family and friends to enjoy a wholesome time of fun\, food and fellowship. Feel free to bring your favorite games.
URL:https://fromtheheartatlanta.org/event/community-fellowship-apr24/
CATEGORIES:Fellowship,Outreach
ATTACH;FMTTYPE=image/png:https://fromtheheartatlanta.org/wp-content/uploads/2024/04/cal_communityfellowship.png
END:VEVENT
END:VCALENDAR