BEGIN:VCALENDAR
VERSION:2.0
PRODID:-//From the Heart Church Ministries of Atlanta - ECPv6.15.20//NONSGML v1.0//EN
CALSCALE:GREGORIAN
METHOD:PUBLISH
X-ORIGINAL-URL:https://fromtheheartatlanta.org
X-WR-CALDESC:Events for From the Heart Church Ministries of Atlanta
REFRESH-INTERVAL;VALUE=DURATION:PT1H
X-Robots-Tag:noindex
X-PUBLISHED-TTL:PT1H
BEGIN:VTIMEZONE
TZID:America/New_York
BEGIN:DAYLIGHT
TZOFFSETFROM:-0500
TZOFFSETTO:-0400
TZNAME:EDT
DTSTART:20230312T070000
END:DAYLIGHT
BEGIN:STANDARD
TZOFFSETFROM:-0400
TZOFFSETTO:-0500
TZNAME:EST
DTSTART:20231105T060000
END:STANDARD
BEGIN:DAYLIGHT
TZOFFSETFROM:-0500
TZOFFSETTO:-0400
TZNAME:EDT
DTSTART:20240310T070000
END:DAYLIGHT
BEGIN:STANDARD
TZOFFSETFROM:-0400
TZOFFSETTO:-0500
TZNAME:EST
DTSTART:20241103T060000
END:STANDARD
BEGIN:DAYLIGHT
TZOFFSETFROM:-0500
TZOFFSETTO:-0400
TZNAME:EDT
DTSTART:20250309T070000
END:DAYLIGHT
BEGIN:STANDARD
TZOFFSETFROM:-0400
TZOFFSETTO:-0500
TZNAME:EST
DTSTART:20251102T060000
END:STANDARD
BEGIN:DAYLIGHT
TZOFFSETFROM:-0500
TZOFFSETTO:-0400
TZNAME:EDT
DTSTART:20260308T070000
END:DAYLIGHT
BEGIN:STANDARD
TZOFFSETFROM:-0400
TZOFFSETTO:-0500
TZNAME:EST
DTSTART:20261101T060000
END:STANDARD
END:VTIMEZONE
BEGIN:VEVENT
DTSTART;TZID=America/New_York:20250726T100000
DTEND;TZID=America/New_York:20250726T110000
DTSTAMP:20260419T113127
CREATED:20250720T000848Z
LAST-MODIFIED:20250720T043206Z
UID:10000667-1753524000-1753527600@fromtheheartatlanta.org
SUMMARY:Men’s Fellowship
DESCRIPTION:MEN!  Men’s Fellowship is BACK!  Join us on Saturday\, July 26 at 10:00 a.m. in the Fellowship Hall.  Come out and invite another man as we rise and build upon the ROCK\, which is Jesus Christ!
URL:https://fromtheheartatlanta.org/event/mens-fellowship/
LOCATION:Sanctuary\, 1583 Westhaven Dr. SW\, Atlanta\, GA\, 30311
CATEGORIES:Fellowship
ATTACH;FMTTYPE=image/png:https://fromtheheartatlanta.org/wp-content/uploads/2025/07/cal_faithfulmog.png
GEO:33.7327954;-84.4392279
X-APPLE-STRUCTURED-LOCATION;VALUE=URI;X-ADDRESS=Sanctuary 1583 Westhaven Dr. SW Atlanta GA 30311;X-APPLE-RADIUS=500;X-TITLE=1583 Westhaven Dr. SW:geo:-84.4392279,33.7327954
END:VEVENT
BEGIN:VEVENT
DTSTART;TZID=America/New_York:20241109T100000
DTEND;TZID=America/New_York:20241109T110000
DTSTAMP:20260419T113127
CREATED:20240123T210631Z
LAST-MODIFIED:20240423T164157Z
UID:10000572-1731146400-1731150000@fromtheheartatlanta.org
SUMMARY:Men’s & Women’s Fellowship
DESCRIPTION:Come out and learn how to redeem the time as faithful men of God and virtuous women of God.  Feel free to invite others to come.
URL:https://fromtheheartatlanta.org/event/mens-womens-fellowship-2024/2024-11-09/
LOCATION:Sanctuary\, 1583 Westhaven Dr. SW\, Atlanta\, GA\, 30311
CATEGORIES:Fellowship
ATTACH;FMTTYPE=image/png:https://fromtheheartatlanta.org/wp-content/uploads/2021/12/em_fellowships_inperson.png
GEO:33.7327954;-84.4392279
X-APPLE-STRUCTURED-LOCATION;VALUE=URI;X-ADDRESS=Sanctuary 1583 Westhaven Dr. SW Atlanta GA 30311;X-APPLE-RADIUS=500;X-TITLE=1583 Westhaven Dr. SW:geo:-84.4392279,33.7327954
END:VEVENT
BEGIN:VEVENT
DTSTART;TZID=America/New_York:20240511T100000
DTEND;TZID=America/New_York:20240511T110000
DTSTAMP:20260419T113128
CREATED:20240123T210631Z
LAST-MODIFIED:20240423T164157Z
UID:10000571-1715421600-1715425200@fromtheheartatlanta.org
SUMMARY:Men’s & Women’s Fellowship
DESCRIPTION:Come out and learn how to redeem the time as faithful men of God and virtuous women of God.  Feel free to invite others to come.
URL:https://fromtheheartatlanta.org/event/mens-womens-fellowship-2024/2024-05-11/
LOCATION:Sanctuary\, 1583 Westhaven Dr. SW\, Atlanta\, GA\, 30311
CATEGORIES:Fellowship
ATTACH;FMTTYPE=image/png:https://fromtheheartatlanta.org/wp-content/uploads/2021/12/em_fellowships_inperson.png
GEO:33.7327954;-84.4392279
X-APPLE-STRUCTURED-LOCATION;VALUE=URI;X-ADDRESS=Sanctuary 1583 Westhaven Dr. SW Atlanta GA 30311;X-APPLE-RADIUS=500;X-TITLE=1583 Westhaven Dr. SW:geo:-84.4392279,33.7327954
END:VEVENT
END:VCALENDAR