BEGIN:VCALENDAR
VERSION:2.0
PRODID:-//From the Heart Church Ministries of Atlanta - ECPv6.15.20//NONSGML v1.0//EN
CALSCALE:GREGORIAN
METHOD:PUBLISH
X-WR-CALNAME:From the Heart Church Ministries of Atlanta
X-ORIGINAL-URL:https://fromtheheartatlanta.org
X-WR-CALDESC:Events for From the Heart Church Ministries of Atlanta
REFRESH-INTERVAL;VALUE=DURATION:PT1H
X-Robots-Tag:noindex
X-PUBLISHED-TTL:PT1H
BEGIN:VTIMEZONE
TZID:America/New_York
BEGIN:DAYLIGHT
TZOFFSETFROM:-0500
TZOFFSETTO:-0400
TZNAME:EDT
DTSTART:20220313T070000
END:DAYLIGHT
BEGIN:STANDARD
TZOFFSETFROM:-0400
TZOFFSETTO:-0500
TZNAME:EST
DTSTART:20221106T060000
END:STANDARD
BEGIN:DAYLIGHT
TZOFFSETFROM:-0500
TZOFFSETTO:-0400
TZNAME:EDT
DTSTART:20230312T070000
END:DAYLIGHT
BEGIN:STANDARD
TZOFFSETFROM:-0400
TZOFFSETTO:-0500
TZNAME:EST
DTSTART:20231105T060000
END:STANDARD
BEGIN:DAYLIGHT
TZOFFSETFROM:-0500
TZOFFSETTO:-0400
TZNAME:EDT
DTSTART:20240310T070000
END:DAYLIGHT
BEGIN:STANDARD
TZOFFSETFROM:-0400
TZOFFSETTO:-0500
TZNAME:EST
DTSTART:20241103T060000
END:STANDARD
END:VTIMEZONE
BEGIN:VEVENT
DTSTART;TZID=America/New_York:20231031T190000
DTEND;TZID=America/New_York:20231031T200000
DTSTAMP:20260419T204515
CREATED:20230426T132640Z
LAST-MODIFIED:20230426T133159Z
UID:10000395-1698778800-1698782400@fromtheheartatlanta.org
SUMMARY:Bible Study Livestream
DESCRIPTION:Tuesdays at 7:00 p.m. continue to build upon your knowledge of God and of Jesus Christ our Lord\, through sound biblical learning.
URL:https://fromtheheartatlanta.org/event/bible-study-livestream-tues/2023-10-31/
LOCATION:Online
CATEGORIES:Services
ATTACH;FMTTYPE=image/png:https://fromtheheartatlanta.org/wp-content/uploads/2020/04/bible_study_livestream.png
END:VEVENT
BEGIN:VEVENT
DTSTART;TZID=America/New_York:20231024T190000
DTEND;TZID=America/New_York:20231024T200000
DTSTAMP:20260419T204515
CREATED:20230426T132640Z
LAST-MODIFIED:20230426T133159Z
UID:10000394-1698174000-1698177600@fromtheheartatlanta.org
SUMMARY:Bible Study Livestream
DESCRIPTION:Tuesdays at 7:00 p.m. continue to build upon your knowledge of God and of Jesus Christ our Lord\, through sound biblical learning.
URL:https://fromtheheartatlanta.org/event/bible-study-livestream-tues/2023-10-24/
LOCATION:Online
CATEGORIES:Services
ATTACH;FMTTYPE=image/png:https://fromtheheartatlanta.org/wp-content/uploads/2020/04/bible_study_livestream.png
END:VEVENT
BEGIN:VEVENT
DTSTART;TZID=America/New_York:20231017T190000
DTEND;TZID=America/New_York:20231017T200000
DTSTAMP:20260419T204515
CREATED:20230426T132640Z
LAST-MODIFIED:20230426T133159Z
UID:10000393-1697569200-1697572800@fromtheheartatlanta.org
SUMMARY:Bible Study Livestream
DESCRIPTION:Tuesdays at 7:00 p.m. continue to build upon your knowledge of God and of Jesus Christ our Lord\, through sound biblical learning.
URL:https://fromtheheartatlanta.org/event/bible-study-livestream-tues/2023-10-17/
LOCATION:Online
CATEGORIES:Services
ATTACH;FMTTYPE=image/png:https://fromtheheartatlanta.org/wp-content/uploads/2020/04/bible_study_livestream.png
END:VEVENT
BEGIN:VEVENT
DTSTART;TZID=America/New_York:20231010T190000
DTEND;TZID=America/New_York:20231010T200000
DTSTAMP:20260419T204515
CREATED:20230426T132640Z
LAST-MODIFIED:20230426T133159Z
UID:10000392-1696964400-1696968000@fromtheheartatlanta.org
SUMMARY:Bible Study Livestream
DESCRIPTION:Tuesdays at 7:00 p.m. continue to build upon your knowledge of God and of Jesus Christ our Lord\, through sound biblical learning.
URL:https://fromtheheartatlanta.org/event/bible-study-livestream-tues/2023-10-10/
LOCATION:Online
CATEGORIES:Services
ATTACH;FMTTYPE=image/png:https://fromtheheartatlanta.org/wp-content/uploads/2020/04/bible_study_livestream.png
END:VEVENT
BEGIN:VEVENT
DTSTART;TZID=America/New_York:20231003T190000
DTEND;TZID=America/New_York:20231003T200000
DTSTAMP:20260419T204515
CREATED:20230426T132640Z
LAST-MODIFIED:20230426T133159Z
UID:10000391-1696359600-1696363200@fromtheheartatlanta.org
SUMMARY:Bible Study Livestream
DESCRIPTION:Tuesdays at 7:00 p.m. continue to build upon your knowledge of God and of Jesus Christ our Lord\, through sound biblical learning.
URL:https://fromtheheartatlanta.org/event/bible-study-livestream-tues/2023-10-03/
LOCATION:Online
CATEGORIES:Services
ATTACH;FMTTYPE=image/png:https://fromtheheartatlanta.org/wp-content/uploads/2020/04/bible_study_livestream.png
END:VEVENT
BEGIN:VEVENT
DTSTART;TZID=America/New_York:20230926T190000
DTEND;TZID=America/New_York:20230926T200000
DTSTAMP:20260419T204515
CREATED:20230426T132640Z
LAST-MODIFIED:20230426T133159Z
UID:10000390-1695754800-1695758400@fromtheheartatlanta.org
SUMMARY:Bible Study Livestream
DESCRIPTION:Tuesdays at 7:00 p.m. continue to build upon your knowledge of God and of Jesus Christ our Lord\, through sound biblical learning.
URL:https://fromtheheartatlanta.org/event/bible-study-livestream-tues/2023-09-26/
LOCATION:Online
CATEGORIES:Services
ATTACH;FMTTYPE=image/png:https://fromtheheartatlanta.org/wp-content/uploads/2020/04/bible_study_livestream.png
END:VEVENT
BEGIN:VEVENT
DTSTART;TZID=America/New_York:20230919T190000
DTEND;TZID=America/New_York:20230919T200000
DTSTAMP:20260419T204515
CREATED:20230426T132640Z
LAST-MODIFIED:20230426T133159Z
UID:10000389-1695150000-1695153600@fromtheheartatlanta.org
SUMMARY:Bible Study Livestream
DESCRIPTION:Tuesdays at 7:00 p.m. continue to build upon your knowledge of God and of Jesus Christ our Lord\, through sound biblical learning.
URL:https://fromtheheartatlanta.org/event/bible-study-livestream-tues/2023-09-19/
LOCATION:Online
CATEGORIES:Services
ATTACH;FMTTYPE=image/png:https://fromtheheartatlanta.org/wp-content/uploads/2020/04/bible_study_livestream.png
END:VEVENT
BEGIN:VEVENT
DTSTART;TZID=America/New_York:20230912T190000
DTEND;TZID=America/New_York:20230912T200000
DTSTAMP:20260419T204515
CREATED:20230426T132640Z
LAST-MODIFIED:20230426T133159Z
UID:10000388-1694545200-1694548800@fromtheheartatlanta.org
SUMMARY:Bible Study Livestream
DESCRIPTION:Tuesdays at 7:00 p.m. continue to build upon your knowledge of God and of Jesus Christ our Lord\, through sound biblical learning.
URL:https://fromtheheartatlanta.org/event/bible-study-livestream-tues/2023-09-12/
LOCATION:Online
CATEGORIES:Services
ATTACH;FMTTYPE=image/png:https://fromtheheartatlanta.org/wp-content/uploads/2020/04/bible_study_livestream.png
END:VEVENT
BEGIN:VEVENT
DTSTART;TZID=America/New_York:20230905T190000
DTEND;TZID=America/New_York:20230905T200000
DTSTAMP:20260419T204515
CREATED:20230426T132640Z
LAST-MODIFIED:20230426T133159Z
UID:10000387-1693940400-1693944000@fromtheheartatlanta.org
SUMMARY:Bible Study Livestream
DESCRIPTION:Tuesdays at 7:00 p.m. continue to build upon your knowledge of God and of Jesus Christ our Lord\, through sound biblical learning.
URL:https://fromtheheartatlanta.org/event/bible-study-livestream-tues/2023-09-05/
LOCATION:Online
CATEGORIES:Services
ATTACH;FMTTYPE=image/png:https://fromtheheartatlanta.org/wp-content/uploads/2020/04/bible_study_livestream.png
END:VEVENT
BEGIN:VEVENT
DTSTART;TZID=America/New_York:20230829T190000
DTEND;TZID=America/New_York:20230829T200000
DTSTAMP:20260419T204515
CREATED:20230426T132640Z
LAST-MODIFIED:20230426T133159Z
UID:10000386-1693335600-1693339200@fromtheheartatlanta.org
SUMMARY:Bible Study Livestream
DESCRIPTION:Tuesdays at 7:00 p.m. continue to build upon your knowledge of God and of Jesus Christ our Lord\, through sound biblical learning.
URL:https://fromtheheartatlanta.org/event/bible-study-livestream-tues/2023-08-29/
LOCATION:Online
CATEGORIES:Services
ATTACH;FMTTYPE=image/png:https://fromtheheartatlanta.org/wp-content/uploads/2020/04/bible_study_livestream.png
END:VEVENT
BEGIN:VEVENT
DTSTART;TZID=America/New_York:20230822T190000
DTEND;TZID=America/New_York:20230822T200000
DTSTAMP:20260419T204515
CREATED:20230426T132640Z
LAST-MODIFIED:20230426T133159Z
UID:10000385-1692730800-1692734400@fromtheheartatlanta.org
SUMMARY:Bible Study Livestream
DESCRIPTION:Tuesdays at 7:00 p.m. continue to build upon your knowledge of God and of Jesus Christ our Lord\, through sound biblical learning.
URL:https://fromtheheartatlanta.org/event/bible-study-livestream-tues/2023-08-22/
LOCATION:Online
CATEGORIES:Services
ATTACH;FMTTYPE=image/png:https://fromtheheartatlanta.org/wp-content/uploads/2020/04/bible_study_livestream.png
END:VEVENT
BEGIN:VEVENT
DTSTART;TZID=America/New_York:20230815T190000
DTEND;TZID=America/New_York:20230815T200000
DTSTAMP:20260419T204515
CREATED:20230426T132640Z
LAST-MODIFIED:20230426T133159Z
UID:10000384-1692126000-1692129600@fromtheheartatlanta.org
SUMMARY:Bible Study Livestream
DESCRIPTION:Tuesdays at 7:00 p.m. continue to build upon your knowledge of God and of Jesus Christ our Lord\, through sound biblical learning.
URL:https://fromtheheartatlanta.org/event/bible-study-livestream-tues/2023-08-15/
LOCATION:Online
CATEGORIES:Services
ATTACH;FMTTYPE=image/png:https://fromtheheartatlanta.org/wp-content/uploads/2020/04/bible_study_livestream.png
END:VEVENT
BEGIN:VEVENT
DTSTART;TZID=America/New_York:20230808T190000
DTEND;TZID=America/New_York:20230808T200000
DTSTAMP:20260419T204515
CREATED:20230426T132640Z
LAST-MODIFIED:20230426T133159Z
UID:10000383-1691521200-1691524800@fromtheheartatlanta.org
SUMMARY:Bible Study Livestream
DESCRIPTION:Tuesdays at 7:00 p.m. continue to build upon your knowledge of God and of Jesus Christ our Lord\, through sound biblical learning.
URL:https://fromtheheartatlanta.org/event/bible-study-livestream-tues/2023-08-08/
LOCATION:Online
CATEGORIES:Services
ATTACH;FMTTYPE=image/png:https://fromtheheartatlanta.org/wp-content/uploads/2020/04/bible_study_livestream.png
END:VEVENT
BEGIN:VEVENT
DTSTART;TZID=America/New_York:20230801T190000
DTEND;TZID=America/New_York:20230801T200000
DTSTAMP:20260419T204515
CREATED:20230426T132640Z
LAST-MODIFIED:20230426T133159Z
UID:10000382-1690916400-1690920000@fromtheheartatlanta.org
SUMMARY:Bible Study Livestream
DESCRIPTION:Tuesdays at 7:00 p.m. continue to build upon your knowledge of God and of Jesus Christ our Lord\, through sound biblical learning.
URL:https://fromtheheartatlanta.org/event/bible-study-livestream-tues/2023-08-01/
LOCATION:Online
CATEGORIES:Services
ATTACH;FMTTYPE=image/png:https://fromtheheartatlanta.org/wp-content/uploads/2020/04/bible_study_livestream.png
END:VEVENT
BEGIN:VEVENT
DTSTART;TZID=America/New_York:20230725T190000
DTEND;TZID=America/New_York:20230725T200000
DTSTAMP:20260419T204515
CREATED:20230426T132640Z
LAST-MODIFIED:20230426T133159Z
UID:10000381-1690311600-1690315200@fromtheheartatlanta.org
SUMMARY:Bible Study Livestream
DESCRIPTION:Tuesdays at 7:00 p.m. continue to build upon your knowledge of God and of Jesus Christ our Lord\, through sound biblical learning.
URL:https://fromtheheartatlanta.org/event/bible-study-livestream-tues/2023-07-25/
LOCATION:Online
CATEGORIES:Services
ATTACH;FMTTYPE=image/png:https://fromtheheartatlanta.org/wp-content/uploads/2020/04/bible_study_livestream.png
END:VEVENT
BEGIN:VEVENT
DTSTART;TZID=America/New_York:20230718T190000
DTEND;TZID=America/New_York:20230718T200000
DTSTAMP:20260419T204515
CREATED:20230426T132640Z
LAST-MODIFIED:20230426T133159Z
UID:10000380-1689706800-1689710400@fromtheheartatlanta.org
SUMMARY:Bible Study Livestream
DESCRIPTION:Tuesdays at 7:00 p.m. continue to build upon your knowledge of God and of Jesus Christ our Lord\, through sound biblical learning.
URL:https://fromtheheartatlanta.org/event/bible-study-livestream-tues/2023-07-18/
LOCATION:Online
CATEGORIES:Services
ATTACH;FMTTYPE=image/png:https://fromtheheartatlanta.org/wp-content/uploads/2020/04/bible_study_livestream.png
END:VEVENT
BEGIN:VEVENT
DTSTART;TZID=America/New_York:20230711T190000
DTEND;TZID=America/New_York:20230711T200000
DTSTAMP:20260419T204515
CREATED:20230426T132640Z
LAST-MODIFIED:20230426T133159Z
UID:10000379-1689102000-1689105600@fromtheheartatlanta.org
SUMMARY:Bible Study Livestream
DESCRIPTION:Tuesdays at 7:00 p.m. continue to build upon your knowledge of God and of Jesus Christ our Lord\, through sound biblical learning.
URL:https://fromtheheartatlanta.org/event/bible-study-livestream-tues/2023-07-11/
LOCATION:Online
CATEGORIES:Services
ATTACH;FMTTYPE=image/png:https://fromtheheartatlanta.org/wp-content/uploads/2020/04/bible_study_livestream.png
END:VEVENT
BEGIN:VEVENT
DTSTART;TZID=America/New_York:20230704T190000
DTEND;TZID=America/New_York:20230704T200000
DTSTAMP:20260419T204515
CREATED:20230426T132640Z
LAST-MODIFIED:20230426T133159Z
UID:10000378-1688497200-1688500800@fromtheheartatlanta.org
SUMMARY:Bible Study Livestream
DESCRIPTION:Tuesdays at 7:00 p.m. continue to build upon your knowledge of God and of Jesus Christ our Lord\, through sound biblical learning.
URL:https://fromtheheartatlanta.org/event/bible-study-livestream-tues/2023-07-04/
LOCATION:Online
CATEGORIES:Services
ATTACH;FMTTYPE=image/png:https://fromtheheartatlanta.org/wp-content/uploads/2020/04/bible_study_livestream.png
END:VEVENT
BEGIN:VEVENT
DTSTART;TZID=America/New_York:20230627T190000
DTEND;TZID=America/New_York:20230627T200000
DTSTAMP:20260419T204515
CREATED:20230426T132640Z
LAST-MODIFIED:20230426T133159Z
UID:10000377-1687892400-1687896000@fromtheheartatlanta.org
SUMMARY:Bible Study Livestream
DESCRIPTION:Tuesdays at 7:00 p.m. continue to build upon your knowledge of God and of Jesus Christ our Lord\, through sound biblical learning.
URL:https://fromtheheartatlanta.org/event/bible-study-livestream-tues/2023-06-27/
LOCATION:Online
CATEGORIES:Services
ATTACH;FMTTYPE=image/png:https://fromtheheartatlanta.org/wp-content/uploads/2020/04/bible_study_livestream.png
END:VEVENT
BEGIN:VEVENT
DTSTART;TZID=America/New_York:20230620T190000
DTEND;TZID=America/New_York:20230620T200000
DTSTAMP:20260419T204515
CREATED:20230426T132640Z
LAST-MODIFIED:20230426T133159Z
UID:10000376-1687287600-1687291200@fromtheheartatlanta.org
SUMMARY:Bible Study Livestream
DESCRIPTION:Tuesdays at 7:00 p.m. continue to build upon your knowledge of God and of Jesus Christ our Lord\, through sound biblical learning.
URL:https://fromtheheartatlanta.org/event/bible-study-livestream-tues/2023-06-20/
LOCATION:Online
CATEGORIES:Services
ATTACH;FMTTYPE=image/png:https://fromtheheartatlanta.org/wp-content/uploads/2020/04/bible_study_livestream.png
END:VEVENT
BEGIN:VEVENT
DTSTART;TZID=America/New_York:20230613T190000
DTEND;TZID=America/New_York:20230613T200000
DTSTAMP:20260419T204515
CREATED:20230426T132640Z
LAST-MODIFIED:20230426T133159Z
UID:10000375-1686682800-1686686400@fromtheheartatlanta.org
SUMMARY:Bible Study Livestream
DESCRIPTION:Tuesdays at 7:00 p.m. continue to build upon your knowledge of God and of Jesus Christ our Lord\, through sound biblical learning.
URL:https://fromtheheartatlanta.org/event/bible-study-livestream-tues/2023-06-13/
LOCATION:Online
CATEGORIES:Services
ATTACH;FMTTYPE=image/png:https://fromtheheartatlanta.org/wp-content/uploads/2020/04/bible_study_livestream.png
END:VEVENT
BEGIN:VEVENT
DTSTART;TZID=America/New_York:20230606T190000
DTEND;TZID=America/New_York:20230606T200000
DTSTAMP:20260419T204515
CREATED:20230426T132640Z
LAST-MODIFIED:20230426T133159Z
UID:10000374-1686078000-1686081600@fromtheheartatlanta.org
SUMMARY:Bible Study Livestream
DESCRIPTION:Tuesdays at 7:00 p.m. continue to build upon your knowledge of God and of Jesus Christ our Lord\, through sound biblical learning.
URL:https://fromtheheartatlanta.org/event/bible-study-livestream-tues/2023-06-06/
LOCATION:Online
CATEGORIES:Services
ATTACH;FMTTYPE=image/png:https://fromtheheartatlanta.org/wp-content/uploads/2020/04/bible_study_livestream.png
END:VEVENT
BEGIN:VEVENT
DTSTART;TZID=America/New_York:20230530T190000
DTEND;TZID=America/New_York:20230530T200000
DTSTAMP:20260419T204515
CREATED:20230426T132640Z
LAST-MODIFIED:20230426T133159Z
UID:10000373-1685473200-1685476800@fromtheheartatlanta.org
SUMMARY:Bible Study Livestream
DESCRIPTION:Tuesdays at 7:00 p.m. continue to build upon your knowledge of God and of Jesus Christ our Lord\, through sound biblical learning.
URL:https://fromtheheartatlanta.org/event/bible-study-livestream-tues/2023-05-30/
LOCATION:Online
CATEGORIES:Services
ATTACH;FMTTYPE=image/png:https://fromtheheartatlanta.org/wp-content/uploads/2020/04/bible_study_livestream.png
END:VEVENT
BEGIN:VEVENT
DTSTART;TZID=America/New_York:20230523T190000
DTEND;TZID=America/New_York:20230523T200000
DTSTAMP:20260419T204515
CREATED:20230426T132640Z
LAST-MODIFIED:20230426T133159Z
UID:10000372-1684868400-1684872000@fromtheheartatlanta.org
SUMMARY:Bible Study Livestream
DESCRIPTION:Tuesdays at 7:00 p.m. continue to build upon your knowledge of God and of Jesus Christ our Lord\, through sound biblical learning.
URL:https://fromtheheartatlanta.org/event/bible-study-livestream-tues/2023-05-23/
LOCATION:Online
CATEGORIES:Services
ATTACH;FMTTYPE=image/png:https://fromtheheartatlanta.org/wp-content/uploads/2020/04/bible_study_livestream.png
END:VEVENT
BEGIN:VEVENT
DTSTART;TZID=America/New_York:20230516T190000
DTEND;TZID=America/New_York:20230516T200000
DTSTAMP:20260419T204515
CREATED:20230426T132640Z
LAST-MODIFIED:20230426T133159Z
UID:10000371-1684263600-1684267200@fromtheheartatlanta.org
SUMMARY:Bible Study Livestream
DESCRIPTION:Tuesdays at 7:00 p.m. continue to build upon your knowledge of God and of Jesus Christ our Lord\, through sound biblical learning.
URL:https://fromtheheartatlanta.org/event/bible-study-livestream-tues/2023-05-16/
LOCATION:Online
CATEGORIES:Services
ATTACH;FMTTYPE=image/png:https://fromtheheartatlanta.org/wp-content/uploads/2020/04/bible_study_livestream.png
END:VEVENT
BEGIN:VEVENT
DTSTART;TZID=America/New_York:20230509T190000
DTEND;TZID=America/New_York:20230509T200000
DTSTAMP:20260419T204515
CREATED:20230426T132640Z
LAST-MODIFIED:20230426T133159Z
UID:10000370-1683658800-1683662400@fromtheheartatlanta.org
SUMMARY:Bible Study Livestream
DESCRIPTION:Tuesdays at 7:00 p.m. continue to build upon your knowledge of God and of Jesus Christ our Lord\, through sound biblical learning.
URL:https://fromtheheartatlanta.org/event/bible-study-livestream-tues/2023-05-09/
LOCATION:Online
CATEGORIES:Services
ATTACH;FMTTYPE=image/png:https://fromtheheartatlanta.org/wp-content/uploads/2020/04/bible_study_livestream.png
END:VEVENT
BEGIN:VEVENT
DTSTART;TZID=America/New_York:20230502T190000
DTEND;TZID=America/New_York:20230502T200000
DTSTAMP:20260419T204515
CREATED:20230426T132640Z
LAST-MODIFIED:20230426T133159Z
UID:10000369-1683054000-1683057600@fromtheheartatlanta.org
SUMMARY:Bible Study Livestream
DESCRIPTION:Tuesdays at 7:00 p.m. continue to build upon your knowledge of God and of Jesus Christ our Lord\, through sound biblical learning.
URL:https://fromtheheartatlanta.org/event/bible-study-livestream-tues/2023-05-02/
LOCATION:Online
CATEGORIES:Services
ATTACH;FMTTYPE=image/png:https://fromtheheartatlanta.org/wp-content/uploads/2020/04/bible_study_livestream.png
END:VEVENT
BEGIN:VEVENT
DTSTART;TZID=America/New_York:20230425T190000
DTEND;TZID=America/New_York:20230425T200000
DTSTAMP:20260419T204515
CREATED:20230426T132640Z
LAST-MODIFIED:20230426T133159Z
UID:10000368-1682449200-1682452800@fromtheheartatlanta.org
SUMMARY:Bible Study Livestream
DESCRIPTION:Tuesdays at 7:00 p.m. continue to build upon your knowledge of God and of Jesus Christ our Lord\, through sound biblical learning.
URL:https://fromtheheartatlanta.org/event/bible-study-livestream-tues/2023-04-25/
LOCATION:Online
CATEGORIES:Services
ATTACH;FMTTYPE=image/png:https://fromtheheartatlanta.org/wp-content/uploads/2020/04/bible_study_livestream.png
END:VEVENT
BEGIN:VEVENT
DTSTART;TZID=America/New_York:20230418T190000
DTEND;TZID=America/New_York:20230418T200000
DTSTAMP:20260419T204515
CREATED:20230426T132507Z
LAST-MODIFIED:20230426T133228Z
UID:10000367-1681844400-1681848000@fromtheheartatlanta.org
SUMMARY:Bible Study Livestream
DESCRIPTION:Tuesdays at 7:00 p.m. continue to build upon your knowledge of God and of Jesus Christ our Lord\, through sound biblical learning.
URL:https://fromtheheartatlanta.org/event/bible-study-livestream-3/2023-04-18/
LOCATION:Online
CATEGORIES:Services
ATTACH;FMTTYPE=image/png:https://fromtheheartatlanta.org/wp-content/uploads/2020/04/bible_study_livestream.png
END:VEVENT
BEGIN:VEVENT
DTSTART;TZID=America/New_York:20230411T190000
DTEND;TZID=America/New_York:20230411T200000
DTSTAMP:20260419T204515
CREATED:20230426T132507Z
LAST-MODIFIED:20230426T133228Z
UID:10000366-1681239600-1681243200@fromtheheartatlanta.org
SUMMARY:Bible Study Livestream
DESCRIPTION:Tuesdays at 7:00 p.m. continue to build upon your knowledge of God and of Jesus Christ our Lord\, through sound biblical learning.
URL:https://fromtheheartatlanta.org/event/bible-study-livestream-3/2023-04-11/
LOCATION:Online
CATEGORIES:Services
ATTACH;FMTTYPE=image/png:https://fromtheheartatlanta.org/wp-content/uploads/2020/04/bible_study_livestream.png
END:VEVENT
END:VCALENDAR