BEGIN:VCALENDAR
VERSION:2.0
PRODID:-//From the Heart Church Ministries of Atlanta - ECPv6.15.20//NONSGML v1.0//EN
CALSCALE:GREGORIAN
METHOD:PUBLISH
X-ORIGINAL-URL:https://fromtheheartatlanta.org
X-WR-CALDESC:Events for From the Heart Church Ministries of Atlanta
REFRESH-INTERVAL;VALUE=DURATION:PT1H
X-Robots-Tag:noindex
X-PUBLISHED-TTL:PT1H
BEGIN:VTIMEZONE
TZID:America/New_York
BEGIN:DAYLIGHT
TZOFFSETFROM:-0500
TZOFFSETTO:-0400
TZNAME:EDT
DTSTART:20220313T070000
END:DAYLIGHT
BEGIN:STANDARD
TZOFFSETFROM:-0400
TZOFFSETTO:-0500
TZNAME:EST
DTSTART:20221106T060000
END:STANDARD
BEGIN:DAYLIGHT
TZOFFSETFROM:-0500
TZOFFSETTO:-0400
TZNAME:EDT
DTSTART:20230312T070000
END:DAYLIGHT
BEGIN:STANDARD
TZOFFSETFROM:-0400
TZOFFSETTO:-0500
TZNAME:EST
DTSTART:20231105T060000
END:STANDARD
BEGIN:DAYLIGHT
TZOFFSETFROM:-0500
TZOFFSETTO:-0400
TZNAME:EDT
DTSTART:20240310T070000
END:DAYLIGHT
BEGIN:STANDARD
TZOFFSETFROM:-0400
TZOFFSETTO:-0500
TZNAME:EST
DTSTART:20241103T060000
END:STANDARD
END:VTIMEZONE
BEGIN:VEVENT
DTSTART;TZID=America/New_York:20230516T190000
DTEND;TZID=America/New_York:20230516T200000
DTSTAMP:20260420T001055
CREATED:20230426T132640Z
LAST-MODIFIED:20230426T133159Z
UID:10000371-1684263600-1684267200@fromtheheartatlanta.org
SUMMARY:Bible Study Livestream
DESCRIPTION:Tuesdays at 7:00 p.m. continue to build upon your knowledge of God and of Jesus Christ our Lord\, through sound biblical learning.
URL:https://fromtheheartatlanta.org/event/bible-study-livestream-tues/2023-05-16/
LOCATION:Online
CATEGORIES:Services
ATTACH;FMTTYPE=image/png:https://fromtheheartatlanta.org/wp-content/uploads/2020/04/bible_study_livestream.png
END:VEVENT
BEGIN:VEVENT
DTSTART;TZID=America/New_York:20230509T190000
DTEND;TZID=America/New_York:20230509T200000
DTSTAMP:20260420T001055
CREATED:20230426T132640Z
LAST-MODIFIED:20230426T133159Z
UID:10000370-1683658800-1683662400@fromtheheartatlanta.org
SUMMARY:Bible Study Livestream
DESCRIPTION:Tuesdays at 7:00 p.m. continue to build upon your knowledge of God and of Jesus Christ our Lord\, through sound biblical learning.
URL:https://fromtheheartatlanta.org/event/bible-study-livestream-tues/2023-05-09/
LOCATION:Online
CATEGORIES:Services
ATTACH;FMTTYPE=image/png:https://fromtheheartatlanta.org/wp-content/uploads/2020/04/bible_study_livestream.png
END:VEVENT
BEGIN:VEVENT
DTSTART;TZID=America/New_York:20230502T190000
DTEND;TZID=America/New_York:20230502T200000
DTSTAMP:20260420T001055
CREATED:20230426T132640Z
LAST-MODIFIED:20230426T133159Z
UID:10000369-1683054000-1683057600@fromtheheartatlanta.org
SUMMARY:Bible Study Livestream
DESCRIPTION:Tuesdays at 7:00 p.m. continue to build upon your knowledge of God and of Jesus Christ our Lord\, through sound biblical learning.
URL:https://fromtheheartatlanta.org/event/bible-study-livestream-tues/2023-05-02/
LOCATION:Online
CATEGORIES:Services
ATTACH;FMTTYPE=image/png:https://fromtheheartatlanta.org/wp-content/uploads/2020/04/bible_study_livestream.png
END:VEVENT
BEGIN:VEVENT
DTSTART;TZID=America/New_York:20230425T190000
DTEND;TZID=America/New_York:20230425T200000
DTSTAMP:20260420T001055
CREATED:20230426T132640Z
LAST-MODIFIED:20230426T133159Z
UID:10000368-1682449200-1682452800@fromtheheartatlanta.org
SUMMARY:Bible Study Livestream
DESCRIPTION:Tuesdays at 7:00 p.m. continue to build upon your knowledge of God and of Jesus Christ our Lord\, through sound biblical learning.
URL:https://fromtheheartatlanta.org/event/bible-study-livestream-tues/2023-04-25/
LOCATION:Online
CATEGORIES:Services
ATTACH;FMTTYPE=image/png:https://fromtheheartatlanta.org/wp-content/uploads/2020/04/bible_study_livestream.png
END:VEVENT
BEGIN:VEVENT
DTSTART;TZID=America/New_York:20230418T190000
DTEND;TZID=America/New_York:20230418T200000
DTSTAMP:20260420T001055
CREATED:20230426T132507Z
LAST-MODIFIED:20230426T133228Z
UID:10000367-1681844400-1681848000@fromtheheartatlanta.org
SUMMARY:Bible Study Livestream
DESCRIPTION:Tuesdays at 7:00 p.m. continue to build upon your knowledge of God and of Jesus Christ our Lord\, through sound biblical learning.
URL:https://fromtheheartatlanta.org/event/bible-study-livestream-3/2023-04-18/
LOCATION:Online
CATEGORIES:Services
ATTACH;FMTTYPE=image/png:https://fromtheheartatlanta.org/wp-content/uploads/2020/04/bible_study_livestream.png
END:VEVENT
BEGIN:VEVENT
DTSTART;TZID=America/New_York:20230411T190000
DTEND;TZID=America/New_York:20230411T200000
DTSTAMP:20260420T001055
CREATED:20230426T132507Z
LAST-MODIFIED:20230426T133228Z
UID:10000366-1681239600-1681243200@fromtheheartatlanta.org
SUMMARY:Bible Study Livestream
DESCRIPTION:Tuesdays at 7:00 p.m. continue to build upon your knowledge of God and of Jesus Christ our Lord\, through sound biblical learning.
URL:https://fromtheheartatlanta.org/event/bible-study-livestream-3/2023-04-11/
LOCATION:Online
CATEGORIES:Services
ATTACH;FMTTYPE=image/png:https://fromtheheartatlanta.org/wp-content/uploads/2020/04/bible_study_livestream.png
END:VEVENT
BEGIN:VEVENT
DTSTART;TZID=America/New_York:20230406T193000
DTEND;TZID=America/New_York:20230406T203000
DTSTAMP:20260420T001055
CREATED:20230215T210130Z
LAST-MODIFIED:20230215T210130Z
UID:10000271-1680809400-1680813000@fromtheheartatlanta.org
SUMMARY:Bible Study Livestream
DESCRIPTION:Thursdays at 7:30 p.m. continue to build upon your knowledge of God and of Jesus Christ our Lord\, through sound biblical learning.
URL:https://fromtheheartatlanta.org/event/bible-study-livestream/2023-04-06/
LOCATION:Online
CATEGORIES:Services
ATTACH;FMTTYPE=image/png:https://fromtheheartatlanta.org/wp-content/uploads/2020/04/bible_study_livestream.png
END:VEVENT
BEGIN:VEVENT
DTSTART;TZID=America/New_York:20230330T193000
DTEND;TZID=America/New_York:20230330T203000
DTSTAMP:20260420T001055
CREATED:20230215T210130Z
LAST-MODIFIED:20230215T210130Z
UID:10000270-1680204600-1680208200@fromtheheartatlanta.org
SUMMARY:Bible Study Livestream
DESCRIPTION:Thursdays at 7:30 p.m. continue to build upon your knowledge of God and of Jesus Christ our Lord\, through sound biblical learning.
URL:https://fromtheheartatlanta.org/event/bible-study-livestream/2023-03-30/
LOCATION:Online
CATEGORIES:Services
ATTACH;FMTTYPE=image/png:https://fromtheheartatlanta.org/wp-content/uploads/2020/04/bible_study_livestream.png
END:VEVENT
BEGIN:VEVENT
DTSTART;TZID=America/New_York:20230323T193000
DTEND;TZID=America/New_York:20230323T203000
DTSTAMP:20260420T001055
CREATED:20230215T210130Z
LAST-MODIFIED:20230215T210130Z
UID:10000269-1679599800-1679603400@fromtheheartatlanta.org
SUMMARY:Bible Study Livestream
DESCRIPTION:Thursdays at 7:30 p.m. continue to build upon your knowledge of God and of Jesus Christ our Lord\, through sound biblical learning.
URL:https://fromtheheartatlanta.org/event/bible-study-livestream/2023-03-23/
LOCATION:Online
CATEGORIES:Services
ATTACH;FMTTYPE=image/png:https://fromtheheartatlanta.org/wp-content/uploads/2020/04/bible_study_livestream.png
END:VEVENT
BEGIN:VEVENT
DTSTART;TZID=America/New_York:20230316T193000
DTEND;TZID=America/New_York:20230316T203000
DTSTAMP:20260420T001055
CREATED:20230215T210130Z
LAST-MODIFIED:20230215T210130Z
UID:10000268-1678995000-1678998600@fromtheheartatlanta.org
SUMMARY:Bible Study Livestream
DESCRIPTION:Thursdays at 7:30 p.m. continue to build upon your knowledge of God and of Jesus Christ our Lord\, through sound biblical learning.
URL:https://fromtheheartatlanta.org/event/bible-study-livestream/2023-03-16/
LOCATION:Online
CATEGORIES:Services
ATTACH;FMTTYPE=image/png:https://fromtheheartatlanta.org/wp-content/uploads/2020/04/bible_study_livestream.png
END:VEVENT
BEGIN:VEVENT
DTSTART;TZID=America/New_York:20230309T193000
DTEND;TZID=America/New_York:20230309T203000
DTSTAMP:20260420T001055
CREATED:20230215T210130Z
LAST-MODIFIED:20230215T210130Z
UID:10000267-1678390200-1678393800@fromtheheartatlanta.org
SUMMARY:Bible Study Livestream
DESCRIPTION:Thursdays at 7:30 p.m. continue to build upon your knowledge of God and of Jesus Christ our Lord\, through sound biblical learning.
URL:https://fromtheheartatlanta.org/event/bible-study-livestream/2023-03-09/
LOCATION:Online
CATEGORIES:Services
ATTACH;FMTTYPE=image/png:https://fromtheheartatlanta.org/wp-content/uploads/2020/04/bible_study_livestream.png
END:VEVENT
BEGIN:VEVENT
DTSTART;TZID=America/New_York:20230302T193000
DTEND;TZID=America/New_York:20230302T203000
DTSTAMP:20260420T001055
CREATED:20230215T210130Z
LAST-MODIFIED:20230215T210130Z
UID:10000266-1677785400-1677789000@fromtheheartatlanta.org
SUMMARY:Bible Study Livestream
DESCRIPTION:Thursdays at 7:30 p.m. continue to build upon your knowledge of God and of Jesus Christ our Lord\, through sound biblical learning.
URL:https://fromtheheartatlanta.org/event/bible-study-livestream/2023-03-02/
LOCATION:Online
CATEGORIES:Services
ATTACH;FMTTYPE=image/png:https://fromtheheartatlanta.org/wp-content/uploads/2020/04/bible_study_livestream.png
END:VEVENT
BEGIN:VEVENT
DTSTART;TZID=America/New_York:20230223T193000
DTEND;TZID=America/New_York:20230223T203000
DTSTAMP:20260420T001055
CREATED:20230215T210130Z
LAST-MODIFIED:20230215T210130Z
UID:10000265-1677180600-1677184200@fromtheheartatlanta.org
SUMMARY:Bible Study Livestream
DESCRIPTION:Thursdays at 7:30 p.m. continue to build upon your knowledge of God and of Jesus Christ our Lord\, through sound biblical learning.
URL:https://fromtheheartatlanta.org/event/bible-study-livestream/2023-02-23/
LOCATION:Online
CATEGORIES:Services
ATTACH;FMTTYPE=image/png:https://fromtheheartatlanta.org/wp-content/uploads/2020/04/bible_study_livestream.png
END:VEVENT
BEGIN:VEVENT
DTSTART;TZID=America/New_York:20230216T193000
DTEND;TZID=America/New_York:20230216T203000
DTSTAMP:20260420T001055
CREATED:20230215T210130Z
LAST-MODIFIED:20230215T210130Z
UID:10000264-1676575800-1676579400@fromtheheartatlanta.org
SUMMARY:Bible Study Livestream
DESCRIPTION:Thursdays at 7:30 p.m. continue to build upon your knowledge of God and of Jesus Christ our Lord\, through sound biblical learning.
URL:https://fromtheheartatlanta.org/event/bible-study-livestream/2023-02-16/
LOCATION:Online
CATEGORIES:Services
ATTACH;FMTTYPE=image/png:https://fromtheheartatlanta.org/wp-content/uploads/2020/04/bible_study_livestream.png
END:VEVENT
END:VCALENDAR